| Back to Multiple platform build/check report for BioC 3.12 | 
 | 
This page was generated on 2021-05-06 12:36:15 -0400 (Thu, 06 May 2021).
| To the developers/maintainers of the qcmetrics package: Please make sure to use the following settings in order to reproduce any error or warning you see on this page. | 
| Package 1422/1974 | Hostname | OS / Arch | INSTALL | BUILD | CHECK | BUILD BIN | ||||||||
| qcmetrics 1.28.0  (landing page) Laurent Gatto 
 | malbec1 | Linux (Ubuntu 18.04.5 LTS) / x86_64 | OK | OK | OK |  | ||||||||
| tokay1 | Windows Server 2012 R2 Standard / x64 | OK | OK | OK | OK |  | ||||||||
| merida1 | macOS 10.14.6 Mojave / x86_64 | OK | OK | OK | OK |  | ||||||||
| Package: qcmetrics | 
| Version: 1.28.0 | 
| Command: rm -rf qcmetrics.buildbin-libdir && mkdir qcmetrics.buildbin-libdir && /Users/biocbuild/BBS/utils/build-universal.sh qcmetrics_1.28.0.tar.gz /Library/Frameworks/R.framework/Versions/Current/Resources/bin/R qcmetrics.buildbin-libdir | 
| StartedAt: 2021-05-06 09:39:39 -0400 (Thu, 06 May 2021) | 
| EndedAt: 2021-05-06 09:40:32 -0400 (Thu, 06 May 2021) | 
| EllapsedTime: 52.2 seconds | 
| RetCode: 0 | 
| Status: OK | 
| PackageFile: qcmetrics_1.28.0.tgz | 
| PackageFileSize: 3.737 MiB | 
############################################################################## ############################################################################## ### ### Running command: ### ### rm -rf qcmetrics.buildbin-libdir && mkdir qcmetrics.buildbin-libdir && /Users/biocbuild/BBS/utils/build-universal.sh qcmetrics_1.28.0.tar.gz /Library/Frameworks/R.framework/Versions/Current/Resources/bin/R qcmetrics.buildbin-libdir ### ############################################################################## ############################################################################## >>>>>>> >>>>>>> INSTALLATION WITH 'R CMD INSTALL --preclean --no-multiarch --library=qcmetrics.buildbin-libdir qcmetrics_1.28.0.tar.gz' >>>>>>> * installing *source* package ‘qcmetrics’ ... ** using staged installation ** R ** data ** inst ** byte-compile and prepare package for lazy loading ** help *** installing help indices ** building package indices ** installing vignettes ** testing if installed package can be loaded from temporary location ** testing if installed package can be loaded from final location ** testing if installed package keeps a record of temporary installation path * DONE (qcmetrics)