| Back to Multiple platform build/check report for BioC 3.12 |
|
This page was generated on 2021-05-06 12:32:50 -0400 (Thu, 06 May 2021).
|
To the developers/maintainers of the proBatch package: Please make sure to use the following settings in order to reproduce any error or warning you see on this page. |
| Package 1388/1974 | Hostname | OS / Arch | INSTALL | BUILD | CHECK | BUILD BIN | ||||||||
| proBatch 1.6.0 (landing page) Chloe H. Lee
| malbec1 | Linux (Ubuntu 18.04.5 LTS) / x86_64 | OK | OK | OK | |||||||||
| tokay1 | Windows Server 2012 R2 Standard / x64 | OK | OK | OK | OK | |||||||||
| merida1 | macOS 10.14.6 Mojave / x86_64 | OK | OK | OK | OK | |||||||||
| Package: proBatch |
| Version: 1.6.0 |
| Command: rm -rf proBatch.buildbin-libdir && mkdir proBatch.buildbin-libdir && C:\Users\biocbuild\bbs-3.12-bioc\R\bin\R.exe CMD INSTALL --merge-multiarch --build --library=proBatch.buildbin-libdir proBatch_1.6.0.tar.gz |
| StartedAt: 2021-05-06 09:48:16 -0400 (Thu, 06 May 2021) |
| EndedAt: 2021-05-06 09:49:23 -0400 (Thu, 06 May 2021) |
| EllapsedTime: 66.8 seconds |
| RetCode: 0 |
| Status: OK |
| PackageFile: proBatch_1.6.0.zip |
| PackageFileSize: 3.135 MiB |
##############################################################################
##############################################################################
###
### Running command:
###
### rm -rf proBatch.buildbin-libdir && mkdir proBatch.buildbin-libdir && C:\Users\biocbuild\bbs-3.12-bioc\R\bin\R.exe CMD INSTALL --merge-multiarch --build --library=proBatch.buildbin-libdir proBatch_1.6.0.tar.gz
###
##############################################################################
##############################################################################
install for i386
* installing *source* package 'proBatch' ...
** using staged installation
** R
** data
*** moving datasets to lazyload DB
** inst
** byte-compile and prepare package for lazy loading
** help
*** installing help indices
converting help for package 'proBatch'
finding HTML links ... done
calculate_PVCA html
calculate_feature_CV html
calculate_peptide_corr_distr html
calculate_sample_corr_distr html
check_sample_consistency html
color_list_to_df html
correct_batch_effects html
create_peptide_annotation html
date_to_sample_order html
dates_to_posix html
define_sample_order html
example_peptide_annotation html
example_proteome html
example_proteome_matrix html
example_sample_annotation html
feature_level_diagnostics html
fit_nonlinear html
generate_colors_for_numeric html
long_to_matrix html
matrix_to_long html
merge_rare_levels html
normalize html
plot_CV_distr html
plot_CV_distr.df html
plot_PCA html
plot_PVCA html
plot_PVCA.df html
plot_corr_matrix html
plot_heatmap_diagnostic html
plot_heatmap_generic html
plot_hierarchical_clustering html
plot_peptide_corr_distribution html
plot_protein_corrplot html
plot_sample_corr_distribution html
plot_sample_corr_heatmap html
plot_sample_mean_or_boxplot html
plot_split_violin_with_boxplot html
prepare_PVCA_df html
proBatch html
sample_annotation_to_colors html
transform_raw_data html
** building package indices
** installing vignettes
** testing if installed package can be loaded from temporary location
** testing if installed package can be loaded from final location
** testing if installed package keeps a record of temporary installation path
install for x64
* installing *source* package 'proBatch' ...
** testing if installed package can be loaded
* MD5 sums
packaged installation of 'proBatch' as proBatch_1.6.0.zip
* DONE (proBatch)