| Back to Multiple platform build/check report for BioC 3.12 |
|
This page was generated on 2021-05-06 12:32:49 -0400 (Thu, 06 May 2021).
|
To the developers/maintainers of the preciseTAD package: Please make sure to use the following settings in order to reproduce any error or warning you see on this page. |
| Package 1378/1974 | Hostname | OS / Arch | INSTALL | BUILD | CHECK | BUILD BIN | ||||||||
| preciseTAD 1.0.0 (landing page) Spiro Stilianoudakis
| malbec1 | Linux (Ubuntu 18.04.5 LTS) / x86_64 | ERROR | ERROR | skipped | |||||||||
| tokay1 | Windows Server 2012 R2 Standard / x64 | ERROR | ERROR | skipped | skipped | |||||||||
| merida1 | macOS 10.14.6 Mojave / x86_64 | ERROR | ERROR | skipped | skipped | |||||||||
| Package: preciseTAD |
| Version: 1.0.0 |
| Command: chmod a+r preciseTAD -R && C:\Users\biocbuild\bbs-3.12-bioc\R\bin\R.exe CMD build --keep-empty-dirs --no-resave-data preciseTAD |
| StartedAt: 2021-05-05 22:50:58 -0400 (Wed, 05 May 2021) |
| EndedAt: 2021-05-05 22:51:04 -0400 (Wed, 05 May 2021) |
| EllapsedTime: 5.8 seconds |
| RetCode: 1 |
| Status: ERROR |
| PackageFile: preciseTAD_1.0.0.tar.gz |
| PackageFileSize: 3.623 MiB |
##############################################################################
##############################################################################
###
### Running command:
###
### chmod a+r preciseTAD -R && C:\Users\biocbuild\bbs-3.12-bioc\R\bin\R.exe CMD build --keep-empty-dirs --no-resave-data preciseTAD
###
##############################################################################
##############################################################################
* checking for file 'preciseTAD/DESCRIPTION' ... OK
* preparing 'preciseTAD':
* checking DESCRIPTION meta-information ... OK
* installing the package to build vignettes
-----------------------------------
ERROR: dependency 'DMwR' is not available for package 'preciseTAD'
* removing 'C:/Users/biocbuild/bbs-3.12-bioc/tmpdir/Rtmpm8rJJe/Rinst12306943279b/preciseTAD'
-----------------------------------
ERROR: package installation failed