| Back to Multiple platform build/check report for BioC 3.12 |
|
This page was generated on 2021-05-06 12:28:35 -0400 (Thu, 06 May 2021).
|
To the developers/maintainers of the phenopath package: Please make sure to use the following settings in order to reproduce any error or warning you see on this page. |
| Package 1337/1974 | Hostname | OS / Arch | INSTALL | BUILD | CHECK | BUILD BIN | ||||||||
| phenopath 1.14.0 (landing page) Kieran Campbell
| malbec1 | Linux (Ubuntu 18.04.5 LTS) / x86_64 | OK | OK | OK | |||||||||
| tokay1 | Windows Server 2012 R2 Standard / x64 | OK | OK | OK | OK | |||||||||
| merida1 | macOS 10.14.6 Mojave / x86_64 | OK | OK | OK | OK | |||||||||
| Package: phenopath |
| Version: 1.14.0 |
| Command: /home/biocbuild/bbs-3.12-bioc/R/bin/R CMD build --keep-empty-dirs --no-resave-data phenopath |
| StartedAt: 2021-05-05 20:56:36 -0400 (Wed, 05 May 2021) |
| EndedAt: 2021-05-05 20:57:44 -0400 (Wed, 05 May 2021) |
| EllapsedTime: 68.6 seconds |
| RetCode: 0 |
| Status: OK |
| PackageFile: phenopath_1.14.0.tar.gz |
| PackageFileSize: 1.26 MiB |
############################################################################## ############################################################################## ### ### Running command: ### ### /home/biocbuild/bbs-3.12-bioc/R/bin/R CMD build --keep-empty-dirs --no-resave-data phenopath ### ############################################################################## ############################################################################## * checking for file ‘phenopath/DESCRIPTION’ ... OK * preparing ‘phenopath’: * checking DESCRIPTION meta-information ... OK * cleaning src * installing the package to build vignettes * creating vignettes ... OK * cleaning src * checking for LF line-endings in source and make files and shell scripts * checking for empty or unneeded directories * building ‘phenopath_1.14.0.tar.gz’