| Back to Multiple platform build/check report for BioC 3.12 | 
 | 
This page was generated on 2021-05-06 12:36:04 -0400 (Thu, 06 May 2021).
| To the developers/maintainers of the pcaExplorer package: Please make sure to use the following settings in order to reproduce any error or warning you see on this page. | 
| Package 1313/1974 | Hostname | OS / Arch | INSTALL | BUILD | CHECK | BUILD BIN | ||||||||
| pcaExplorer 2.16.0  (landing page) Federico Marini 
 | malbec1 | Linux (Ubuntu 18.04.5 LTS) / x86_64 | OK | OK | OK |  | ||||||||
| tokay1 | Windows Server 2012 R2 Standard / x64 | OK | OK | OK | OK |  | ||||||||
| merida1 | macOS 10.14.6 Mojave / x86_64 | OK | OK | OK | OK |  | ||||||||
| Package: pcaExplorer | 
| Version: 2.16.0 | 
| Command: rm -rf pcaExplorer.buildbin-libdir && mkdir pcaExplorer.buildbin-libdir && /Users/biocbuild/BBS/utils/build-universal.sh pcaExplorer_2.16.0.tar.gz /Library/Frameworks/R.framework/Versions/Current/Resources/bin/R pcaExplorer.buildbin-libdir | 
| StartedAt: 2021-05-06 09:31:21 -0400 (Thu, 06 May 2021) | 
| EndedAt: 2021-05-06 09:32:19 -0400 (Thu, 06 May 2021) | 
| EllapsedTime: 58.3 seconds | 
| RetCode: 0 | 
| Status: OK | 
| PackageFile: pcaExplorer_2.16.0.tgz | 
| PackageFileSize: 13.15 MiB | 
############################################################################## ############################################################################## ### ### Running command: ### ### rm -rf pcaExplorer.buildbin-libdir && mkdir pcaExplorer.buildbin-libdir && /Users/biocbuild/BBS/utils/build-universal.sh pcaExplorer_2.16.0.tar.gz /Library/Frameworks/R.framework/Versions/Current/Resources/bin/R pcaExplorer.buildbin-libdir ### ############################################################################## ############################################################################## >>>>>>> >>>>>>> INSTALLATION WITH 'R CMD INSTALL --preclean --no-multiarch --library=pcaExplorer.buildbin-libdir pcaExplorer_2.16.0.tar.gz' >>>>>>> * installing *source* package ‘pcaExplorer’ ... ** using staged installation ** R ** inst ** byte-compile and prepare package for lazy loading ** help *** installing help indices ** building package indices ** installing vignettes ** testing if installed package can be loaded from temporary location ** testing if installed package can be loaded from final location ** testing if installed package keeps a record of temporary installation path * DONE (pcaExplorer)