| Back to Multiple platform build/check report for BioC 3.12 |
|
This page was generated on 2021-05-06 12:32:51 -0400 (Thu, 06 May 2021).
|
To the developers/maintainers of the pRolocGUI package: Please make sure to use the following settings in order to reproduce any error or warning you see on this page. |
| Package 1398/1974 | Hostname | OS / Arch | INSTALL | BUILD | CHECK | BUILD BIN | ||||||||
| pRolocGUI 2.0.0 (landing page) Laurent Gatto
| malbec1 | Linux (Ubuntu 18.04.5 LTS) / x86_64 | OK | OK | WARNINGS | |||||||||
| tokay1 | Windows Server 2012 R2 Standard / x64 | OK | OK | WARNINGS | OK | |||||||||
| merida1 | macOS 10.14.6 Mojave / x86_64 | OK | OK | WARNINGS | OK | |||||||||
| Package: pRolocGUI |
| Version: 2.0.0 |
| Command: rm -rf pRolocGUI.buildbin-libdir && mkdir pRolocGUI.buildbin-libdir && C:\Users\biocbuild\bbs-3.12-bioc\R\bin\R.exe CMD INSTALL --merge-multiarch --build --library=pRolocGUI.buildbin-libdir pRolocGUI_2.0.0.tar.gz |
| StartedAt: 2021-05-06 09:49:01 -0400 (Thu, 06 May 2021) |
| EndedAt: 2021-05-06 09:49:57 -0400 (Thu, 06 May 2021) |
| EllapsedTime: 55.7 seconds |
| RetCode: 0 |
| Status: OK |
| PackageFile: pRolocGUI_2.0.0.zip |
| PackageFileSize: 1.761 MiB |
##############################################################################
##############################################################################
###
### Running command:
###
### rm -rf pRolocGUI.buildbin-libdir && mkdir pRolocGUI.buildbin-libdir && C:\Users\biocbuild\bbs-3.12-bioc\R\bin\R.exe CMD INSTALL --merge-multiarch --build --library=pRolocGUI.buildbin-libdir pRolocGUI_2.0.0.tar.gz
###
##############################################################################
##############################################################################
install for i386
* installing *source* package 'pRolocGUI' ...
** using staged installation
** R
** inst
** byte-compile and prepare package for lazy loading
Warning: replacing previous import 'shinydashboardPlus::dashboardSidebar' by 'shinydashboard::dashboardSidebar' when loading 'pRolocGUI'
** help
*** installing help indices
converting help for package 'pRolocGUI'
finding HTML links ... done
pRolocVis-apps html
** building package indices
** installing vignettes
** testing if installed package can be loaded from temporary location
Warning: replacing previous import 'shinydashboardPlus::dashboardSidebar' by 'shinydashboard::dashboardSidebar' when loading 'pRolocGUI'
** testing if installed package can be loaded from final location
Warning: replacing previous import 'shinydashboardPlus::dashboardSidebar' by 'shinydashboard::dashboardSidebar' when loading 'pRolocGUI'
** testing if installed package keeps a record of temporary installation path
install for x64
* installing *source* package 'pRolocGUI' ...
** testing if installed package can be loaded
Warning: replacing previous import 'shinydashboardPlus::dashboardSidebar' by 'shinydashboard::dashboardSidebar' when loading 'pRolocGUI'
* MD5 sums
packaged installation of 'pRolocGUI' as pRolocGUI_2.0.0.zip
* DONE (pRolocGUI)