| Back to Multiple platform build/check report for BioC 3.12 |
|
This page was generated on 2021-05-06 12:32:50 -0400 (Thu, 06 May 2021).
|
To the developers/maintainers of the pRoloc package: Please make sure to use the following settings in order to reproduce any error or warning you see on this page. |
| Package 1397/1974 | Hostname | OS / Arch | INSTALL | BUILD | CHECK | BUILD BIN | ||||||||
| pRoloc 1.30.0 (landing page) Laurent Gatto
| malbec1 | Linux (Ubuntu 18.04.5 LTS) / x86_64 | OK | OK | OK | |||||||||
| tokay1 | Windows Server 2012 R2 Standard / x64 | OK | OK | WARNINGS | OK | |||||||||
| merida1 | macOS 10.14.6 Mojave / x86_64 | OK | OK | ERROR | OK | |||||||||
| Package: pRoloc |
| Version: 1.30.0 |
| Command: rm -rf pRoloc.buildbin-libdir && mkdir pRoloc.buildbin-libdir && C:\Users\biocbuild\bbs-3.12-bioc\R\bin\R.exe CMD INSTALL --merge-multiarch --build --library=pRoloc.buildbin-libdir pRoloc_1.30.0.tar.gz |
| StartedAt: 2021-05-06 09:48:58 -0400 (Thu, 06 May 2021) |
| EndedAt: 2021-05-06 09:51:08 -0400 (Thu, 06 May 2021) |
| EllapsedTime: 129.8 seconds |
| RetCode: 0 |
| Status: OK |
| PackageFile: pRoloc_1.30.0.zip |
| PackageFileSize: 6.448 MiB |
##############################################################################
##############################################################################
###
### Running command:
###
### rm -rf pRoloc.buildbin-libdir && mkdir pRoloc.buildbin-libdir && C:\Users\biocbuild\bbs-3.12-bioc\R\bin\R.exe CMD INSTALL --merge-multiarch --build --library=pRoloc.buildbin-libdir pRoloc_1.30.0.tar.gz
###
##############################################################################
##############################################################################
install for i386
* installing *source* package 'pRoloc' ...
** using staged installation
** libs
"C:/rtools40/mingw32/bin/"g++ -std=gnu++11 -I"C:/Users/BIOCBU~1/BBS-3~1.12-/R/include" -DNDEBUG -I'C:/Users/biocbuild/bbs-3.12-bioc/R/library/Rcpp/include' -I'C:/Users/biocbuild/bbs-3.12-bioc/R/library/RcppArmadillo/include' -I"C:/extsoft/include" -O2 -Wall -mfpmath=sse -msse2 -mstackrealign -c RcppExports.cpp -o RcppExports.o
"C:/rtools40/mingw32/bin/"g++ -std=gnu++11 -I"C:/Users/BIOCBU~1/BBS-3~1.12-/R/include" -DNDEBUG -I'C:/Users/biocbuild/bbs-3.12-bioc/R/library/Rcpp/include' -I'C:/Users/biocbuild/bbs-3.12-bioc/R/library/RcppArmadillo/include' -I"C:/extsoft/include" -O2 -Wall -mfpmath=sse -msse2 -mstackrealign -c dmvtCpp.cpp -o dmvtCpp.o
"C:/rtools40/mingw32/bin/"g++ -std=gnu++11 -I"C:/Users/BIOCBU~1/BBS-3~1.12-/R/include" -DNDEBUG -I'C:/Users/biocbuild/bbs-3.12-bioc/R/library/Rcpp/include' -I'C:/Users/biocbuild/bbs-3.12-bioc/R/library/RcppArmadillo/include' -I"C:/extsoft/include" -O2 -Wall -mfpmath=sse -msse2 -mstackrealign -c pRoloc.cpp -o pRoloc.o
C:/rtools40/mingw32/bin/g++ -std=gnu++11 -shared -s -static-libgcc -o pRoloc.dll tmp.def RcppExports.o dmvtCpp.o pRoloc.o -LC:/Users/BIOCBU~1/BBS-3~1.12-/R/bin/i386 -lRlapack -LC:/Users/BIOCBU~1/BBS-3~1.12-/R/bin/i386 -lRblas -lgfortran -lm -lquadmath -LC:/extsoft/lib/i386 -LC:/extsoft/lib -LC:/Users/BIOCBU~1/BBS-3~1.12-/R/bin/i386 -lR
installing to C:/Users/biocbuild/bbs-3.12-bioc/meat/pRoloc.buildbin-libdir/00LOCK-pRoloc/00new/pRoloc/libs/i386
** R
** data
** inst
** byte-compile and prepare package for lazy loading
** help
*** installing help indices
converting help for package 'pRoloc'
finding HTML links ... done
AnnotationParams-class html
ClustDist-class html
ClustDistList-class html
GenRegRes-class html
finding level-2 HTML links ... done
MCMCParams html
MLearn-methods html
MartInstance-class html
QSep-class html
SpatProtVis-class html
addGoAnnotations html
addLegend html
addMarkers html
checkFeatureNamesOverlap html
checkFvarOverlap html
chi2-methods html
classWeights html
clustDist html
defunct html
empPvalues html
fDataToUnknown html
filterBinMSnSet html
filterMaxMarkers html
filterMinMarkers html
filterZeroCols html
getGOFromFeatures html
getMarkerClasses html
getMarkers html
getNormDist html
getPredictions html
getStockcol html
goIdToTerm html
highlightOnPlot html
knnClassification html
knnOptimisation html
knntlClassification html
knntlOptimisation html
ksvmClassification html
ksvmOptimisation html
lopims html
makeGoSet html
markerMSnSet html
markers html
mcmc-helpers html
minMarkers html
mixing_posterior_check html
move2Ds html
mrkConsProfiles html
mrkHClust html
nbClassification html
nbOptimisation html
nicheMeans2D html
nndist-methods html
nnetClassification html
nnetOptimisation html
orderGoAnnotations html
orgQuants html
pRolocmarkers html
perTurboClassification html
perTurboOptimisation html
phenoDisco html
plot2D html
plot2Ds html
plotConsProfiles html
plotDist html
plotEllipse html
plsdaClassification html
plsdaOptimisation html
rfClassification html
rfOptimisation html
sampleMSnSet html
showGOEvidenceCodes html
spatial2D html
subsetMarkers html
svmClassification html
svmOptimisation html
tagm-map html
Rd warning: C:/Users/biocbuild/bbs-3.12-bioc/tmpdir/RtmpAjGMQN/R.INSTALL159865ac1489/pRoloc/man/tagm-map.Rd:28: file link 'MSnSet' in package 'MSnbase' does not exist and so has been treated as a topic
Rd warning: C:/Users/biocbuild/bbs-3.12-bioc/tmpdir/RtmpAjGMQN/R.INSTALL159865ac1489/pRoloc/man/tagm-map.Rd:91: file link 'MSnSet' in package 'MSnbase' does not exist and so has been treated as a topic
Rd warning: C:/Users/biocbuild/bbs-3.12-bioc/tmpdir/RtmpAjGMQN/R.INSTALL159865ac1489/pRoloc/man/tagm-map.Rd:80: file link 'MSnSet' in package 'MSnbase' does not exist and so has been treated as a topic
tagm-mcmc html
Rd warning: C:/Users/biocbuild/bbs-3.12-bioc/tmpdir/RtmpAjGMQN/R.INSTALL159865ac1489/pRoloc/man/tagm-mcmc.Rd:24: file link 'MSnSet' in package 'MSnbase' does not exist and so has been treated as a topic
Rd warning: C:/Users/biocbuild/bbs-3.12-bioc/tmpdir/RtmpAjGMQN/R.INSTALL159865ac1489/pRoloc/man/tagm-mcmc.Rd:115: file link 'MSnSet' in package 'MSnbase' does not exist and so has been treated as a topic
Rd warning: C:/Users/biocbuild/bbs-3.12-bioc/tmpdir/RtmpAjGMQN/R.INSTALL159865ac1489/pRoloc/man/tagm-mcmc.Rd:90: file link 'MSnSet' in package 'MSnbase' does not exist and so has been treated as a topic
testMSnSet html
testMarkers html
thetas html
undocumented html
zerosInBinMSnSet html
** building package indices
** installing vignettes
** testing if installed package can be loaded from temporary location
** testing if installed package can be loaded from final location
** testing if installed package keeps a record of temporary installation path
install for x64
* installing *source* package 'pRoloc' ...
** libs
"C:/rtools40/mingw64/bin/"g++ -std=gnu++11 -I"C:/Users/BIOCBU~1/BBS-3~1.12-/R/include" -DNDEBUG -I'C:/Users/biocbuild/bbs-3.12-bioc/R/library/Rcpp/include' -I'C:/Users/biocbuild/bbs-3.12-bioc/R/library/RcppArmadillo/include' -I"C:/extsoft/include" -O2 -Wall -mfpmath=sse -msse2 -mstackrealign -c RcppExports.cpp -o RcppExports.o
"C:/rtools40/mingw64/bin/"g++ -std=gnu++11 -I"C:/Users/BIOCBU~1/BBS-3~1.12-/R/include" -DNDEBUG -I'C:/Users/biocbuild/bbs-3.12-bioc/R/library/Rcpp/include' -I'C:/Users/biocbuild/bbs-3.12-bioc/R/library/RcppArmadillo/include' -I"C:/extsoft/include" -O2 -Wall -mfpmath=sse -msse2 -mstackrealign -c dmvtCpp.cpp -o dmvtCpp.o
"C:/rtools40/mingw64/bin/"g++ -std=gnu++11 -I"C:/Users/BIOCBU~1/BBS-3~1.12-/R/include" -DNDEBUG -I'C:/Users/biocbuild/bbs-3.12-bioc/R/library/Rcpp/include' -I'C:/Users/biocbuild/bbs-3.12-bioc/R/library/RcppArmadillo/include' -I"C:/extsoft/include" -O2 -Wall -mfpmath=sse -msse2 -mstackrealign -c pRoloc.cpp -o pRoloc.o
C:/rtools40/mingw64/bin/g++ -std=gnu++11 -shared -s -static-libgcc -o pRoloc.dll tmp.def RcppExports.o dmvtCpp.o pRoloc.o -LC:/Users/BIOCBU~1/BBS-3~1.12-/R/bin/x64 -lRlapack -LC:/Users/BIOCBU~1/BBS-3~1.12-/R/bin/x64 -lRblas -lgfortran -lm -lquadmath -LC:/extsoft/lib/x64 -LC:/extsoft/lib -LC:/Users/BIOCBU~1/BBS-3~1.12-/R/bin/x64 -lR
installing to C:/Users/biocbuild/bbs-3.12-bioc/meat/pRoloc.buildbin-libdir/pRoloc/libs/x64
** testing if installed package can be loaded
* MD5 sums
packaged installation of 'pRoloc' as pRoloc_1.30.0.zip
* DONE (pRoloc)