| Back to Multiple platform build/check report for BioC 3.12 |
|
This page was generated on 2021-05-06 12:32:39 -0400 (Thu, 06 May 2021).
|
To the developers/maintainers of the optimalFlow package: Please make sure to use the following settings in order to reproduce any error or warning you see on this page. |
| Package 1275/1974 | Hostname | OS / Arch | INSTALL | BUILD | CHECK | BUILD BIN | ||||||||
| optimalFlow 1.2.0 (landing page) Hristo Inouzhe
| malbec1 | Linux (Ubuntu 18.04.5 LTS) / x86_64 | OK | OK | OK | |||||||||
| tokay1 | Windows Server 2012 R2 Standard / x64 | OK | OK | OK | OK | |||||||||
| merida1 | macOS 10.14.6 Mojave / x86_64 | ERROR | ERROR | skipped | skipped | |||||||||
| Package: optimalFlow |
| Version: 1.2.0 |
| Command: rm -rf optimalFlow.buildbin-libdir && mkdir optimalFlow.buildbin-libdir && C:\Users\biocbuild\bbs-3.12-bioc\R\bin\R.exe CMD INSTALL --merge-multiarch --build --library=optimalFlow.buildbin-libdir optimalFlow_1.2.0.tar.gz |
| StartedAt: 2021-05-06 09:41:47 -0400 (Thu, 06 May 2021) |
| EndedAt: 2021-05-06 09:42:16 -0400 (Thu, 06 May 2021) |
| EllapsedTime: 29.2 seconds |
| RetCode: 0 |
| Status: OK |
| PackageFile: optimalFlow_1.2.0.zip |
| PackageFileSize: 790.7 KiB |
##############################################################################
##############################################################################
###
### Running command:
###
### rm -rf optimalFlow.buildbin-libdir && mkdir optimalFlow.buildbin-libdir && C:\Users\biocbuild\bbs-3.12-bioc\R\bin\R.exe CMD INSTALL --merge-multiarch --build --library=optimalFlow.buildbin-libdir optimalFlow_1.2.0.tar.gz
###
##############################################################################
##############################################################################
install for i386
* installing *source* package 'optimalFlow' ...
** using staged installation
** R
** inst
** byte-compile and prepare package for lazy loading
** help
*** installing help indices
converting help for package 'optimalFlow'
finding HTML links ... done
costWasserMatchingEllipse html
cytoPlot html
cytoPlot3d html
cytoPlotDatabase html
cytoPlotDatabase3d html
estimCovCellGeneral html
estimationCellBarycenter html
f1Score html
f1ScoreVoting html
labelTransfer html
labelTransferEllipse html
optimalFlowClassification html
optimalFlowTemplates html
qdaClassification html
tclustWithInitialization html
tclust_H html
trimmedKBarycenter html
voteLabelTransfer html
w2dist html
wasserCostFunction html
** building package indices
** installing vignettes
** testing if installed package can be loaded from temporary location
** testing if installed package can be loaded from final location
** testing if installed package keeps a record of temporary installation path
install for x64
* installing *source* package 'optimalFlow' ...
** testing if installed package can be loaded
* MD5 sums
packaged installation of 'optimalFlow' as optimalFlow_1.2.0.zip
* DONE (optimalFlow)