| Back to Multiple platform build/check report for BioC 3.12 |
|
This page was generated on 2021-05-06 12:32:36 -0400 (Thu, 06 May 2021).
|
To the developers/maintainers of the omicplotR package: Please make sure to use the following settings in order to reproduce any error or warning you see on this page. |
| Package 1253/1974 | Hostname | OS / Arch | INSTALL | BUILD | CHECK | BUILD BIN | ||||||||
| omicplotR 1.10.0 (landing page) Daniel Giguere
| malbec1 | Linux (Ubuntu 18.04.5 LTS) / x86_64 | OK | OK | OK | |||||||||
| tokay1 | Windows Server 2012 R2 Standard / x64 | OK | OK | OK | OK | |||||||||
| merida1 | macOS 10.14.6 Mojave / x86_64 | OK | OK | OK | OK | |||||||||
| Package: omicplotR |
| Version: 1.10.0 |
| Command: C:\cygwin\bin\curl.exe -O http://172.29.0.3/BBS/3.12/bioc/src/contrib/omicplotR_1.10.0.tar.gz && rm -rf omicplotR.buildbin-libdir && mkdir omicplotR.buildbin-libdir && C:\Users\biocbuild\bbs-3.12-bioc\R\bin\R.exe CMD INSTALL --merge-multiarch --build --library=omicplotR.buildbin-libdir omicplotR_1.10.0.tar.gz && C:\Users\biocbuild\bbs-3.12-bioc\R\bin\R.exe CMD INSTALL omicplotR_1.10.0.zip && rm omicplotR_1.10.0.tar.gz omicplotR_1.10.0.zip |
| StartedAt: 2021-05-05 19:07:04 -0400 (Wed, 05 May 2021) |
| EndedAt: 2021-05-05 19:08:07 -0400 (Wed, 05 May 2021) |
| EllapsedTime: 63.0 seconds |
| RetCode: 0 |
| Status: OK |
##############################################################################
##############################################################################
###
### Running command:
###
### C:\cygwin\bin\curl.exe -O http://172.29.0.3/BBS/3.12/bioc/src/contrib/omicplotR_1.10.0.tar.gz && rm -rf omicplotR.buildbin-libdir && mkdir omicplotR.buildbin-libdir && C:\Users\biocbuild\bbs-3.12-bioc\R\bin\R.exe CMD INSTALL --merge-multiarch --build --library=omicplotR.buildbin-libdir omicplotR_1.10.0.tar.gz && C:\Users\biocbuild\bbs-3.12-bioc\R\bin\R.exe CMD INSTALL omicplotR_1.10.0.zip && rm omicplotR_1.10.0.tar.gz omicplotR_1.10.0.zip
###
##############################################################################
##############################################################################
% Total % Received % Xferd Average Speed Time Time Time Current
Dload Upload Total Spent Left Speed
0 0 0 0 0 0 0 0 --:--:-- --:--:-- --:--:-- 0
100 875k 100 875k 0 0 20.5M 0 --:--:-- --:--:-- --:--:-- 20.8M
install for i386
* installing *source* package 'omicplotR' ...
** using staged installation
** R
** data
*** moving datasets to lazyload DB
** inst
** byte-compile and prepare package for lazy loading
** help
*** installing help indices
converting help for package 'omicplotR'
finding HTML links ... done
internal html
metadata html
omicplotR-package html
omicplotr.run html
otu_table html
** building package indices
** installing vignettes
** testing if installed package can be loaded from temporary location
** testing if installed package can be loaded from final location
** testing if installed package keeps a record of temporary installation path
install for x64
* installing *source* package 'omicplotR' ...
** testing if installed package can be loaded
* MD5 sums
packaged installation of 'omicplotR' as omicplotR_1.10.0.zip
* DONE (omicplotR)
* installing to library 'C:/Users/biocbuild/bbs-3.12-bioc/R/library'
package 'omicplotR' successfully unpacked and MD5 sums checked