| Back to Multiple platform build/check report for BioC 3.12 |
|
This page was generated on 2021-05-06 12:32:36 -0400 (Thu, 06 May 2021).
|
To the developers/maintainers of the omicade4 package: Please make sure to use the following settings in order to reproduce any error or warning you see on this page. |
| Package 1251/1974 | Hostname | OS / Arch | INSTALL | BUILD | CHECK | BUILD BIN | ||||||||
| omicade4 1.30.0 (landing page) Chen Meng
| malbec1 | Linux (Ubuntu 18.04.5 LTS) / x86_64 | OK | OK | OK | |||||||||
| tokay1 | Windows Server 2012 R2 Standard / x64 | OK | OK | OK | OK | |||||||||
| merida1 | macOS 10.14.6 Mojave / x86_64 | OK | OK | OK | OK | |||||||||
| Package: omicade4 |
| Version: 1.30.0 |
| Command: rm -rf omicade4.buildbin-libdir && mkdir omicade4.buildbin-libdir && C:\Users\biocbuild\bbs-3.12-bioc\R\bin\R.exe CMD INSTALL --merge-multiarch --build --library=omicade4.buildbin-libdir omicade4_1.30.0.tar.gz |
| StartedAt: 2021-05-06 09:40:21 -0400 (Thu, 06 May 2021) |
| EndedAt: 2021-05-06 09:40:57 -0400 (Thu, 06 May 2021) |
| EllapsedTime: 35.6 seconds |
| RetCode: 0 |
| Status: OK |
| PackageFile: omicade4_1.30.0.zip |
| PackageFileSize: 608.5 KiB |
##############################################################################
##############################################################################
###
### Running command:
###
### rm -rf omicade4.buildbin-libdir && mkdir omicade4.buildbin-libdir && C:\Users\biocbuild\bbs-3.12-bioc\R\bin\R.exe CMD INSTALL --merge-multiarch --build --library=omicade4.buildbin-libdir omicade4_1.30.0.tar.gz
###
##############################################################################
##############################################################################
install for i386
* installing *source* package 'omicade4' ...
** using staged installation
** R
** data
** inst
** byte-compile and prepare package for lazy loading
** help
*** installing help indices
converting help for package 'omicade4'
finding HTML links ... done
NCI60_4arrays html
mcia html
omicade4-package html
plotVar html
plotVar.cia html
plotVar.mcia html
selectVar html
selectVar.cia html
selectVar.mcia html
topVar html
topVar.cia html
topVar.mcia html
** building package indices
** installing vignettes
** testing if installed package can be loaded from temporary location
** testing if installed package can be loaded from final location
** testing if installed package keeps a record of temporary installation path
install for x64
* installing *source* package 'omicade4' ...
** testing if installed package can be loaded
* MD5 sums
packaged installation of 'omicade4' as omicade4_1.30.0.zip
* DONE (omicade4)