| Back to Multiple platform build/check report for BioC 3.12 |
|
This page was generated on 2021-05-06 12:32:32 -0400 (Thu, 06 May 2021).
|
To the developers/maintainers of the normalize450K package: Please make sure to use the following settings in order to reproduce any error or warning you see on this page. |
| Package 1231/1974 | Hostname | OS / Arch | INSTALL | BUILD | CHECK | BUILD BIN | ||||||||
| normalize450K 1.18.0 (landing page) Jonathan Alexander Heiss
| malbec1 | Linux (Ubuntu 18.04.5 LTS) / x86_64 | OK | OK | OK | |||||||||
| tokay1 | Windows Server 2012 R2 Standard / x64 | OK | OK | OK | OK | |||||||||
| merida1 | macOS 10.14.6 Mojave / x86_64 | OK | OK | OK | OK | |||||||||
| Package: normalize450K |
| Version: 1.18.0 |
| Command: rm -rf normalize450K.buildbin-libdir && mkdir normalize450K.buildbin-libdir && C:\Users\biocbuild\bbs-3.12-bioc\R\bin\R.exe CMD INSTALL --merge-multiarch --build --library=normalize450K.buildbin-libdir normalize450K_1.18.0.tar.gz |
| StartedAt: 2021-05-06 09:39:09 -0400 (Thu, 06 May 2021) |
| EndedAt: 2021-05-06 09:39:30 -0400 (Thu, 06 May 2021) |
| EllapsedTime: 21.8 seconds |
| RetCode: 0 |
| Status: OK |
| PackageFile: normalize450K_1.18.0.zip |
| PackageFileSize: 3.079 MiB |
##############################################################################
##############################################################################
###
### Running command:
###
### rm -rf normalize450K.buildbin-libdir && mkdir normalize450K.buildbin-libdir && C:\Users\biocbuild\bbs-3.12-bioc\R\bin\R.exe CMD INSTALL --merge-multiarch --build --library=normalize450K.buildbin-libdir normalize450K_1.18.0.tar.gz
###
##############################################################################
##############################################################################
install for i386
* installing *source* package 'normalize450K' ...
** using staged installation
** R
** inst
** byte-compile and prepare package for lazy loading
** help
*** installing help indices
converting help for package 'normalize450K'
finding HTML links ... done
estimateLC html
read_and_normalize450K html
** building package indices
** installing vignettes
** testing if installed package can be loaded from temporary location
** testing if installed package can be loaded from final location
** testing if installed package keeps a record of temporary installation path
install for x64
* installing *source* package 'normalize450K' ...
** testing if installed package can be loaded
* MD5 sums
packaged installation of 'normalize450K' as normalize450K_1.18.0.zip
* DONE (normalize450K)