| Back to Multiple platform build/check report for BioC 3.12 |
|
This page was generated on 2021-05-06 12:28:24 -0400 (Thu, 06 May 2021).
|
To the developers/maintainers of the netresponse package: Please make sure to use the following settings in order to reproduce any error or warning you see on this page. |
| Package 1221/1974 | Hostname | OS / Arch | INSTALL | BUILD | CHECK | BUILD BIN | ||||||||
| netresponse 1.50.0 (landing page) Leo Lahti
| malbec1 | Linux (Ubuntu 18.04.5 LTS) / x86_64 | OK | OK | OK | |||||||||
| tokay1 | Windows Server 2012 R2 Standard / x64 | OK | OK | OK | OK | |||||||||
| merida1 | macOS 10.14.6 Mojave / x86_64 | OK | OK | OK | OK | |||||||||
| Package: netresponse |
| Version: 1.50.0 |
| Command: /home/biocbuild/bbs-3.12-bioc/R/bin/R CMD INSTALL netresponse |
| StartedAt: 2021-05-05 16:46:19 -0400 (Wed, 05 May 2021) |
| EndedAt: 2021-05-05 16:46:33 -0400 (Wed, 05 May 2021) |
| EllapsedTime: 14.8 seconds |
| RetCode: 0 |
| Status: OK |
##############################################################################
##############################################################################
###
### Running command:
###
### /home/biocbuild/bbs-3.12-bioc/R/bin/R CMD INSTALL netresponse
###
##############################################################################
##############################################################################
* installing to library ‘/home/biocbuild/bbs-3.12-bioc/R/library’
* installing *source* package ‘netresponse’ ...
** using staged installation
** libs
gcc -I"/home/biocbuild/bbs-3.12-bioc/R/include" -DNDEBUG -I/usr/local/include -fpic -g -O2 -Wall -c netresponse.c -o netresponse.o
netresponse.c: In function ‘mHPpost’:
netresponse.c:264:15: warning: unused variable ‘prior_fields’ [-Wunused-variable]
const char *prior_fields[]={"Mumu","S2mu",
^~~~~~~~~~~~
netresponse.c: In function ‘mLogLambda’:
netresponse.c:713:3: warning: ‘U_p’ may be used uninitialized in this function [-Wmaybe-uninitialized]
vdp_mk_log_lambda(Mumu, S2mu, Mubar, Mutilde,
^~~~~~~~~~~~~~~~~~~~~~~~~~~~~~~~~~~~~~~~~~~~~
AlphaKsi, BetaKsi, KsiAlpha, KsiBeta,
~~~~~~~~~~~~~~~~~~~~~~~~~~~~~~~~~~~~~
post_gamma, log_lambda, prior_alpha,
~~~~~~~~~~~~~~~~~~~~~~~~~~~~~~~~~~~~
U_p, U_hat,
~~~~~~~~~~~
datalen, dim1, dim2, data1, data2,
~~~~~~~~~~~~~~~~~~~~~~~~~~~~~~~~~~
Ns, ncentroids, implicitnoisevar);
~~~~~~~~~~~~~~~~~~~~~~~~~~~~~~~~~
netresponse.c:713:3: warning: ‘KsiBeta’ may be used uninitialized in this function [-Wmaybe-uninitialized]
netresponse.c:713:3: warning: ‘KsiAlpha’ may be used uninitialized in this function [-Wmaybe-uninitialized]
netresponse.c:713:3: warning: ‘BetaKsi’ may be used uninitialized in this function [-Wmaybe-uninitialized]
netresponse.c:713:3: warning: ‘AlphaKsi’ may be used uninitialized in this function [-Wmaybe-uninitialized]
netresponse.c:713:3: warning: ‘Mutilde’ may be used uninitialized in this function [-Wmaybe-uninitialized]
netresponse.c:713:3: warning: ‘Mubar’ may be used uninitialized in this function [-Wmaybe-uninitialized]
netresponse.c:713:3: warning: ‘S2mu’ may be used uninitialized in this function [-Wmaybe-uninitialized]
netresponse.c:713:3: warning: ‘Mumu’ may be used uninitialized in this function [-Wmaybe-uninitialized]
gcc -shared -L/home/biocbuild/bbs-3.12-bioc/R/lib -L/usr/local/lib -o netresponse.so netresponse.o -L/home/biocbuild/bbs-3.12-bioc/R/lib -lR
installing to /home/biocbuild/bbs-3.12-bioc/R/library/00LOCK-netresponse/00new/netresponse/libs
** R
** data
** inst
** byte-compile and prepare package for lazy loading
** help
*** installing help indices
** building package indices
** installing vignettes
** testing if installed package can be loaded from temporary location
** checking absolute paths in shared objects and dynamic libraries
** testing if installed package can be loaded from final location
** testing if installed package keeps a record of temporary installation path
* DONE (netresponse)