Back to Multiple platform build/check report for BioC 3.12 |
|
This page was generated on 2021-05-06 12:32:27 -0400 (Thu, 06 May 2021).
To the developers/maintainers of the netbiov package: Please make sure to use the following settings in order to reproduce any error or warning you see on this page. |
Package 1213/1974 | Hostname | OS / Arch | INSTALL | BUILD | CHECK | BUILD BIN | ||||||||
netbiov 1.24.0 (landing page) Shailesh tripathi
| malbec1 | Linux (Ubuntu 18.04.5 LTS) / x86_64 | OK | OK | WARNINGS | |||||||||
tokay1 | Windows Server 2012 R2 Standard / x64 | OK | OK | WARNINGS | OK | |||||||||
merida1 | macOS 10.14.6 Mojave / x86_64 | OK | OK | WARNINGS | OK | |||||||||
Package: netbiov |
Version: 1.24.0 |
Command: C:\cygwin\bin\curl.exe -O http://172.29.0.3/BBS/3.12/bioc/src/contrib/netbiov_1.24.0.tar.gz && rm -rf netbiov.buildbin-libdir && mkdir netbiov.buildbin-libdir && C:\Users\biocbuild\bbs-3.12-bioc\R\bin\R.exe CMD INSTALL --merge-multiarch --build --library=netbiov.buildbin-libdir netbiov_1.24.0.tar.gz && C:\Users\biocbuild\bbs-3.12-bioc\R\bin\R.exe CMD INSTALL netbiov_1.24.0.zip && rm netbiov_1.24.0.tar.gz netbiov_1.24.0.zip |
StartedAt: 2021-05-05 16:55:58 -0400 (Wed, 05 May 2021) |
EndedAt: 2021-05-05 16:56:37 -0400 (Wed, 05 May 2021) |
EllapsedTime: 39.1 seconds |
RetCode: 0 |
Status: OK |
############################################################################## ############################################################################## ### ### Running command: ### ### C:\cygwin\bin\curl.exe -O http://172.29.0.3/BBS/3.12/bioc/src/contrib/netbiov_1.24.0.tar.gz && rm -rf netbiov.buildbin-libdir && mkdir netbiov.buildbin-libdir && C:\Users\biocbuild\bbs-3.12-bioc\R\bin\R.exe CMD INSTALL --merge-multiarch --build --library=netbiov.buildbin-libdir netbiov_1.24.0.tar.gz && C:\Users\biocbuild\bbs-3.12-bioc\R\bin\R.exe CMD INSTALL netbiov_1.24.0.zip && rm netbiov_1.24.0.tar.gz netbiov_1.24.0.zip ### ############################################################################## ############################################################################## % Total % Received % Xferd Average Speed Time Time Time Current Dload Upload Total Spent Left Speed 0 0 0 0 0 0 0 0 --:--:-- --:--:-- --:--:-- 0 100 521k 100 521k 0 0 22.4M 0 --:--:-- --:--:-- --:--:-- 23.1M install for i386 * installing *source* package 'netbiov' ... ** using staged installation ** R ** data ** inst ** byte-compile and prepare package for lazy loading ** help *** installing help indices converting help for package 'netbiov' finding HTML links ... done PPI_Athalina html color_list html gnet_bcell html level.plot html modules_PPI_Athalina html modules_bcell html mst.plot html mst.plot.mod html plot.NetworkSperical html plot.NetworkSperical.startSet html plot.abstract.module html plot.abstract.nodes html plot.modules html plot.netbiov html plot.spiral.graph html split.mst html ** building package indices ** installing vignettes ** testing if installed package can be loaded from temporary location ** testing if installed package can be loaded from final location ** testing if installed package keeps a record of temporary installation path install for x64 * installing *source* package 'netbiov' ... ** testing if installed package can be loaded * MD5 sums packaged installation of 'netbiov' as netbiov_1.24.0.zip * DONE (netbiov) * installing to library 'C:/Users/biocbuild/bbs-3.12-bioc/R/library' package 'netbiov' successfully unpacked and MD5 sums checked