| Back to Multiple platform build/check report for BioC 3.12 |
|
This page was generated on 2021-05-06 12:32:26 -0400 (Thu, 06 May 2021).
|
To the developers/maintainers of the ncRNAtools package: Please make sure to use the following settings in order to reproduce any error or warning you see on this page. |
| Package 1207/1974 | Hostname | OS / Arch | INSTALL | BUILD | CHECK | BUILD BIN | ||||||||
| ncRNAtools 1.0.0 (landing page) Lara Selles Vidal
| malbec1 | Linux (Ubuntu 18.04.5 LTS) / x86_64 | OK | OK | OK | |||||||||
| tokay1 | Windows Server 2012 R2 Standard / x64 | OK | OK | OK | OK | |||||||||
| merida1 | macOS 10.14.6 Mojave / x86_64 | OK | OK | OK | OK | |||||||||
| Package: ncRNAtools |
| Version: 1.0.0 |
| Command: rm -rf ncRNAtools.buildbin-libdir && mkdir ncRNAtools.buildbin-libdir && C:\Users\biocbuild\bbs-3.12-bioc\R\bin\R.exe CMD INSTALL --merge-multiarch --build --library=ncRNAtools.buildbin-libdir ncRNAtools_1.0.0.tar.gz |
| StartedAt: 2021-05-06 09:37:58 -0400 (Thu, 06 May 2021) |
| EndedAt: 2021-05-06 09:38:17 -0400 (Thu, 06 May 2021) |
| EllapsedTime: 19.1 seconds |
| RetCode: 0 |
| Status: OK |
| PackageFile: ncRNAtools_1.0.0.zip |
| PackageFileSize: 389.5 KiB |
##############################################################################
##############################################################################
###
### Running command:
###
### rm -rf ncRNAtools.buildbin-libdir && mkdir ncRNAtools.buildbin-libdir && C:\Users\biocbuild\bbs-3.12-bioc\R\bin\R.exe CMD INSTALL --merge-multiarch --build --library=ncRNAtools.buildbin-libdir ncRNAtools_1.0.0.tar.gz
###
##############################################################################
##############################################################################
install for i386
* installing *source* package 'ncRNAtools' ...
** using staged installation
** R
** inst
** byte-compile and prepare package for lazy loading
** help
*** installing help indices
converting help for package 'ncRNAtools'
finding HTML links ... done
findPairedBases html
flattenDotBracket html
generatePairsProbabilityMatrix html
pairsToSecondaryStructure html
plotCompositePairsMatrix html
plotPairsProbabilityMatrix html
predictAlternativeSecondaryStructures html
predictSecondaryStructure html
readCT html
readDotBracket html
rnaCentralGenomicCoordinatesSearch html
rnaCentralRetrieveEntry html
rnaCentralTextSearch html
writeCT html
writeDotBracket html
** building package indices
** installing vignettes
** testing if installed package can be loaded from temporary location
** testing if installed package can be loaded from final location
** testing if installed package keeps a record of temporary installation path
install for x64
* installing *source* package 'ncRNAtools' ...
** testing if installed package can be loaded
* MD5 sums
packaged installation of 'ncRNAtools' as ncRNAtools_1.0.0.zip
* DONE (ncRNAtools)