| Back to Multiple platform build/check report for BioC 3.12 |
|
This page was generated on 2021-05-06 12:32:25 -0400 (Thu, 06 May 2021).
|
To the developers/maintainers of the mzR package: Please make sure to use the following settings in order to reproduce any error or warning you see on this page. |
| Package 1195/1974 | Hostname | OS / Arch | INSTALL | BUILD | CHECK | BUILD BIN | ||||||||
| mzR 2.24.1 (landing page) Steffen Neumann
| malbec1 | Linux (Ubuntu 18.04.5 LTS) / x86_64 | OK | OK | WARNINGS | |||||||||
| tokay1 | Windows Server 2012 R2 Standard / x64 | OK | OK | WARNINGS | OK | |||||||||
| merida1 | macOS 10.14.6 Mojave / x86_64 | OK | OK | WARNINGS | OK | |||||||||
| Package: mzR |
| Version: 2.24.1 |
| Command: chmod a+r mzR -R && C:\Users\biocbuild\bbs-3.12-bioc\R\bin\R.exe CMD build --keep-empty-dirs --no-resave-data mzR |
| StartedAt: 2021-05-05 22:15:38 -0400 (Wed, 05 May 2021) |
| EndedAt: 2021-05-05 22:32:32 -0400 (Wed, 05 May 2021) |
| EllapsedTime: 1014.0 seconds |
| RetCode: 0 |
| Status: OK |
| PackageFile: mzR_2.24.1.tar.gz |
| PackageFileSize: 8.406 MiB |
############################################################################## ############################################################################## ### ### Running command: ### ### chmod a+r mzR -R && C:\Users\biocbuild\bbs-3.12-bioc\R\bin\R.exe CMD build --keep-empty-dirs --no-resave-data mzR ### ############################################################################## ############################################################################## * checking for file 'mzR/DESCRIPTION' ... OK * preparing 'mzR': * checking DESCRIPTION meta-information ... OK * cleaning src * installing the package to build vignettes * creating vignettes ... OK * cleaning src * checking for LF line-endings in source and make files and shell scripts * checking for empty or unneeded directories * building 'mzR_2.24.1.tar.gz' Warning: file 'mzR/cleanup' did not have execute permissions: corrected Warning: file 'mzR/configure' did not have execute permissions: corrected