| Back to Multiple platform build/check report for BioC 3.12 | 
  | 
This page was generated on 2021-05-06 12:35:53 -0400 (Thu, 06 May 2021).
| 
To the developers/maintainers of the multiMiR package: Please make sure to use the following settings in order to reproduce any error or warning you see on this page.  | 
| Package 1182/1974 | Hostname | OS / Arch | INSTALL | BUILD | CHECK | BUILD BIN | ||||||||
| multiMiR 1.12.0  (landing page) Matt Mulvahill 
  | malbec1 | Linux (Ubuntu 18.04.5 LTS) / x86_64 | OK | OK | OK | |||||||||
| tokay1 | Windows Server 2012 R2 Standard / x64 | OK | OK | OK | OK | |||||||||
| merida1 | macOS 10.14.6 Mojave / x86_64 | OK | OK | OK | OK | |||||||||
| Package: multiMiR | 
| Version: 1.12.0 | 
| Command: /Library/Frameworks/R.framework/Versions/Current/Resources/bin/R CMD build --keep-empty-dirs --no-resave-data multiMiR | 
| StartedAt: 2021-05-05 20:50:26 -0400 (Wed, 05 May 2021) | 
| EndedAt: 2021-05-05 20:51:45 -0400 (Wed, 05 May 2021) | 
| EllapsedTime: 78.7 seconds | 
| RetCode: 0 | 
| Status: OK | 
| PackageFile: multiMiR_1.12.0.tar.gz | 
| PackageFileSize: 319.8 KiB | 
############################################################################## ############################################################################## ### ### Running command: ### ### /Library/Frameworks/R.framework/Versions/Current/Resources/bin/R CMD build --keep-empty-dirs --no-resave-data multiMiR ### ############################################################################## ############################################################################## * checking for file ‘multiMiR/DESCRIPTION’ ... OK * preparing ‘multiMiR’: * checking DESCRIPTION meta-information ... OK * installing the package to build vignettes * creating vignettes ... OK * checking for LF line-endings in source and make files and shell scripts * checking for empty or unneeded directories * building ‘multiMiR_1.12.0.tar.gz’