| Back to Multiple platform build/check report for BioC 3.12 |
|
This page was generated on 2021-05-06 12:32:22 -0400 (Thu, 06 May 2021).
|
To the developers/maintainers of the msmsTests package: Please make sure to use the following settings in order to reproduce any error or warning you see on this page. |
| Package 1160/1974 | Hostname | OS / Arch | INSTALL | BUILD | CHECK | BUILD BIN | ||||||||
| msmsTests 1.28.0 (landing page) Josep Gregori i Font
| malbec1 | Linux (Ubuntu 18.04.5 LTS) / x86_64 | OK | OK | OK | |||||||||
| tokay1 | Windows Server 2012 R2 Standard / x64 | OK | OK | OK | OK | |||||||||
| merida1 | macOS 10.14.6 Mojave / x86_64 | OK | OK | OK | OK | |||||||||
| Package: msmsTests |
| Version: 1.28.0 |
| Command: rm -rf msmsTests.buildbin-libdir && mkdir msmsTests.buildbin-libdir && C:\Users\biocbuild\bbs-3.12-bioc\R\bin\R.exe CMD INSTALL --merge-multiarch --build --library=msmsTests.buildbin-libdir msmsTests_1.28.0.tar.gz |
| StartedAt: 2021-05-06 09:35:18 -0400 (Thu, 06 May 2021) |
| EndedAt: 2021-05-06 09:35:46 -0400 (Thu, 06 May 2021) |
| EllapsedTime: 27.7 seconds |
| RetCode: 0 |
| Status: OK |
| PackageFile: msmsTests_1.28.0.zip |
| PackageFileSize: 361.5 KiB |
##############################################################################
##############################################################################
###
### Running command:
###
### rm -rf msmsTests.buildbin-libdir && mkdir msmsTests.buildbin-libdir && C:\Users\biocbuild\bbs-3.12-bioc\R\bin\R.exe CMD INSTALL --merge-multiarch --build --library=msmsTests.buildbin-libdir msmsTests_1.28.0.tar.gz
###
##############################################################################
##############################################################################
install for i386
* installing *source* package 'msmsTests' ...
** using staged installation
** R
** data
** inst
** byte-compile and prepare package for lazy loading
** help
*** installing help indices
converting help for package 'msmsTests'
finding HTML links ... done
msms.edgeR html
finding level-2 HTML links ... done
msms.glm.pois html
msms.glm.qlll html
msms.spk html
msmsTests-package html
pval.by.fc html
res.volcanoplot html
test.results html
** building package indices
** installing vignettes
** testing if installed package can be loaded from temporary location
** testing if installed package can be loaded from final location
** testing if installed package keeps a record of temporary installation path
install for x64
* installing *source* package 'msmsTests' ...
** testing if installed package can be loaded
* MD5 sums
packaged installation of 'msmsTests' as msmsTests_1.28.0.zip
* DONE (msmsTests)