| Back to Multiple platform build/check report for BioC 3.12 |
|
This page was generated on 2021-05-06 12:28:18 -0400 (Thu, 06 May 2021).
|
To the developers/maintainers of the mpra package: Please make sure to use the following settings in order to reproduce any error or warning you see on this page. |
| Package 1150/1974 | Hostname | OS / Arch | INSTALL | BUILD | CHECK | BUILD BIN | ||||||||
| mpra 1.12.1 (landing page) Leslie Myint
| malbec1 | Linux (Ubuntu 18.04.5 LTS) / x86_64 | OK | OK | OK | |||||||||
| tokay1 | Windows Server 2012 R2 Standard / x64 | OK | OK | OK | OK | |||||||||
| merida1 | macOS 10.14.6 Mojave / x86_64 | OK | OK | OK | OK | |||||||||
| Package: mpra |
| Version: 1.12.1 |
| Command: /home/biocbuild/bbs-3.12-bioc/R/bin/R CMD build --keep-empty-dirs --no-resave-data mpra |
| StartedAt: 2021-05-05 20:24:48 -0400 (Wed, 05 May 2021) |
| EndedAt: 2021-05-05 20:25:44 -0400 (Wed, 05 May 2021) |
| EllapsedTime: 56.3 seconds |
| RetCode: 0 |
| Status: OK |
| PackageFile: mpra_1.12.1.tar.gz |
| PackageFileSize: 3.11 MiB |
############################################################################## ############################################################################## ### ### Running command: ### ### /home/biocbuild/bbs-3.12-bioc/R/bin/R CMD build --keep-empty-dirs --no-resave-data mpra ### ############################################################################## ############################################################################## * checking for file ‘mpra/DESCRIPTION’ ... OK * preparing ‘mpra’: * checking DESCRIPTION meta-information ... OK * installing the package to process help pages * saving partial Rd database * creating vignettes ... OK * checking for LF line-endings in source and make files and shell scripts * checking for empty or unneeded directories * looking to see if a ‘data/datalist’ file should be added * building ‘mpra_1.12.1.tar.gz’