| Back to Multiple platform build/check report for BioC 3.12 |
|
This page was generated on 2021-05-06 12:32:15 -0400 (Thu, 06 May 2021).
|
To the developers/maintainers of the microbiomeDASim package: Please make sure to use the following settings in order to reproduce any error or warning you see on this page. |
| Package 1094/1974 | Hostname | OS / Arch | INSTALL | BUILD | CHECK | BUILD BIN | ||||||||
| microbiomeDASim 1.4.0 (landing page) Justin Williams
| malbec1 | Linux (Ubuntu 18.04.5 LTS) / x86_64 | OK | OK | OK | |||||||||
| tokay1 | Windows Server 2012 R2 Standard / x64 | OK | OK | OK | OK | |||||||||
| merida1 | macOS 10.14.6 Mojave / x86_64 | OK | OK | OK | OK | |||||||||
| Package: microbiomeDASim |
| Version: 1.4.0 |
| Command: rm -rf microbiomeDASim.buildbin-libdir && mkdir microbiomeDASim.buildbin-libdir && C:\Users\biocbuild\bbs-3.12-bioc\R\bin\R.exe CMD INSTALL --merge-multiarch --build --library=microbiomeDASim.buildbin-libdir microbiomeDASim_1.4.0.tar.gz |
| StartedAt: 2021-05-06 09:31:36 -0400 (Thu, 06 May 2021) |
| EndedAt: 2021-05-06 09:32:11 -0400 (Thu, 06 May 2021) |
| EllapsedTime: 35.0 seconds |
| RetCode: 0 |
| Status: OK |
| PackageFile: microbiomeDASim_1.4.0.zip |
| PackageFileSize: 1.577 MiB |
##############################################################################
##############################################################################
###
### Running command:
###
### rm -rf microbiomeDASim.buildbin-libdir && mkdir microbiomeDASim.buildbin-libdir && C:\Users\biocbuild\bbs-3.12-bioc\R\bin\R.exe CMD INSTALL --merge-multiarch --build --library=microbiomeDASim.buildbin-libdir microbiomeDASim_1.4.0.tar.gz
###
##############################################################################
##############################################################################
install for i386
* installing *source* package 'microbiomeDASim' ...
** using staged installation
** R
** inst
** byte-compile and prepare package for lazy loading
** help
*** installing help indices
converting help for package 'microbiomeDASim'
finding HTML links ... done
IP_form_check html
final_output_gen html
form_beta_check html
gen_microbiome_norm_feature_check html
gen_norm_microbiome html
gen_norm_microbiome_obs html
ggplot_spaghetti html
mean_trend html
mean_trend_beta_vec html
mean_trend_design_mat html
mvrnorm_corr_gen html
mvrnorm_sim html
mvrnorm_sim_obs html
sigma_corr_function html
simulate2MRexperiment html
finding level-2 HTML links ... done
simulate2phyloseq html
timepoint_process html
trunc_bugs html
** building package indices
** installing vignettes
** testing if installed package can be loaded from temporary location
** testing if installed package can be loaded from final location
** testing if installed package keeps a record of temporary installation path
install for x64
* installing *source* package 'microbiomeDASim' ...
** testing if installed package can be loaded
* MD5 sums
packaged installation of 'microbiomeDASim' as microbiomeDASim_1.4.0.zip
* DONE (microbiomeDASim)