| Back to Multiple platform build/check report for BioC 3.12 | 
 | 
This page was generated on 2021-05-06 12:32:15 -0400 (Thu, 06 May 2021).
| To the developers/maintainers of the microRNA package: Please make sure to use the following settings in order to reproduce any error or warning you see on this page. | 
| Package 1097/1974 | Hostname | OS / Arch | INSTALL | BUILD | CHECK | BUILD BIN | ||||||||
| microRNA 1.48.0  (landing page) "James F. Reid" 
 | malbec1 | Linux (Ubuntu 18.04.5 LTS) / x86_64 | OK | OK | OK |  | ||||||||
| tokay1 | Windows Server 2012 R2 Standard / x64 | OK | OK | OK | OK |  | ||||||||
| merida1 | macOS 10.14.6 Mojave / x86_64 | OK | OK | OK | OK |  | ||||||||
| Package: microRNA | 
| Version: 1.48.0 | 
| Command: chmod a+r microRNA -R && C:\Users\biocbuild\bbs-3.12-bioc\R\bin\R.exe CMD build --keep-empty-dirs --no-resave-data microRNA | 
| StartedAt: 2021-05-05 22:03:02 -0400 (Wed, 05 May 2021) | 
| EndedAt: 2021-05-05 22:03:21 -0400 (Wed, 05 May 2021) | 
| EllapsedTime: 19.3 seconds | 
| RetCode: 0 | 
| Status: OK | 
| PackageFile: microRNA_1.48.0.tar.gz | 
| PackageFileSize: 5.742 MiB | 
############################################################################## ############################################################################## ### ### Running command: ### ### chmod a+r microRNA -R && C:\Users\biocbuild\bbs-3.12-bioc\R\bin\R.exe CMD build --keep-empty-dirs --no-resave-data microRNA ### ############################################################################## ############################################################################## * checking for file 'microRNA/DESCRIPTION' ... OK * preparing 'microRNA': * checking DESCRIPTION meta-information ... OK * cleaning src * checking for LF line-endings in source and make files and shell scripts * checking for empty or unneeded directories * looking to see if a 'data/datalist' file should be added * building 'microRNA_1.48.0.tar.gz'