| Back to Multiple platform build/check report for BioC 3.12 |
|
This page was generated on 2021-05-06 12:32:11 -0400 (Thu, 06 May 2021).
|
To the developers/maintainers of the metabolomicsWorkbenchR package: Please make sure to use the following settings in order to reproduce any error or warning you see on this page. |
| Package 1046/1974 | Hostname | OS / Arch | INSTALL | BUILD | CHECK | BUILD BIN | ||||||||
| metabolomicsWorkbenchR 1.0.0 (landing page) Gavin Rhys Lloyd
| malbec1 | Linux (Ubuntu 18.04.5 LTS) / x86_64 | OK | OK | OK | |||||||||
| tokay1 | Windows Server 2012 R2 Standard / x64 | OK | OK | OK | OK | |||||||||
| merida1 | macOS 10.14.6 Mojave / x86_64 | OK | OK | OK | OK | |||||||||
| Package: metabolomicsWorkbenchR |
| Version: 1.0.0 |
| Command: rm -rf metabolomicsWorkbenchR.buildbin-libdir && mkdir metabolomicsWorkbenchR.buildbin-libdir && C:\Users\biocbuild\bbs-3.12-bioc\R\bin\R.exe CMD INSTALL --merge-multiarch --build --library=metabolomicsWorkbenchR.buildbin-libdir metabolomicsWorkbenchR_1.0.0.tar.gz |
| StartedAt: 2021-05-06 09:28:56 -0400 (Thu, 06 May 2021) |
| EndedAt: 2021-05-06 09:29:37 -0400 (Thu, 06 May 2021) |
| EllapsedTime: 41.7 seconds |
| RetCode: 0 |
| Status: OK |
| PackageFile: metabolomicsWorkbenchR_1.0.0.zip |
| PackageFileSize: 1.671 MiB |
##############################################################################
##############################################################################
###
### Running command:
###
### rm -rf metabolomicsWorkbenchR.buildbin-libdir && mkdir metabolomicsWorkbenchR.buildbin-libdir && C:\Users\biocbuild\bbs-3.12-bioc\R\bin\R.exe CMD INSTALL --merge-multiarch --build --library=metabolomicsWorkbenchR.buildbin-libdir metabolomicsWorkbenchR_1.0.0.tar.gz
###
##############################################################################
##############################################################################
install for i386
* installing *source* package 'metabolomicsWorkbenchR' ...
** using staged installation
** R
** inst
** byte-compile and prepare package for lazy loading
** help
*** installing help indices
converting help for package 'metabolomicsWorkbenchR'
finding HTML links ... done
check_pattern html
check_puts html
context html
do_query html
input_item html
is_valid html
metabolomicsWorkbenchR html
mw_base html
output_item html
** building package indices
** installing vignettes
** testing if installed package can be loaded from temporary location
** testing if installed package can be loaded from final location
** testing if installed package keeps a record of temporary installation path
install for x64
* installing *source* package 'metabolomicsWorkbenchR' ...
** testing if installed package can be loaded
* MD5 sums
packaged installation of 'metabolomicsWorkbenchR' as metabolomicsWorkbenchR_1.0.0.zip
* DONE (metabolomicsWorkbenchR)