| Back to Multiple platform build/check report for BioC 3.12 | 
  | 
This page was generated on 2021-05-06 12:32:09 -0400 (Thu, 06 May 2021).
| 
To the developers/maintainers of the mcaGUI package: Please make sure to use the following settings in order to reproduce any error or warning you see on this page.  | 
| Package 1021/1974 | Hostname | OS / Arch | INSTALL | BUILD | CHECK | BUILD BIN | ||||||||
Wade K. Copeland 
  | malbec1 | Linux (Ubuntu 18.04.5 LTS) / x86_64 | ERROR | OK | ERROR | |||||||||
| tokay1 | Windows Server 2012 R2 Standard / x64 | ERROR | OK | ERROR | ERROR | |||||||||
| merida1 | macOS 10.14.6 Mojave / x86_64 | ERROR | OK | ERROR | ERROR | |||||||||
| Package: mcaGUI | 
| Version: 1.38.0 | 
| Command: C:\cygwin\bin\curl.exe -O http://172.29.0.3/BBS/3.12/bioc/src/contrib/mcaGUI_1.38.0.tar.gz && rm -rf mcaGUI.buildbin-libdir && mkdir mcaGUI.buildbin-libdir && C:\Users\biocbuild\bbs-3.12-bioc\R\bin\R.exe CMD INSTALL --merge-multiarch --build --library=mcaGUI.buildbin-libdir mcaGUI_1.38.0.tar.gz && C:\Users\biocbuild\bbs-3.12-bioc\R\bin\R.exe CMD INSTALL mcaGUI_1.38.0.zip && rm mcaGUI_1.38.0.tar.gz mcaGUI_1.38.0.zip | 
| StartedAt: 2021-05-05 19:24:13 -0400 (Wed, 05 May 2021) | 
| EndedAt: 2021-05-05 19:24:14 -0400 (Wed, 05 May 2021) | 
| EllapsedTime: 1.0 seconds | 
| RetCode: 1 | 
| Status: ERROR | 
##############################################################################
##############################################################################
###
### Running command:
###
###   C:\cygwin\bin\curl.exe -O http://172.29.0.3/BBS/3.12/bioc/src/contrib/mcaGUI_1.38.0.tar.gz && rm -rf mcaGUI.buildbin-libdir && mkdir mcaGUI.buildbin-libdir && C:\Users\biocbuild\bbs-3.12-bioc\R\bin\R.exe CMD INSTALL --merge-multiarch --build --library=mcaGUI.buildbin-libdir mcaGUI_1.38.0.tar.gz && C:\Users\biocbuild\bbs-3.12-bioc\R\bin\R.exe CMD INSTALL mcaGUI_1.38.0.zip && rm mcaGUI_1.38.0.tar.gz mcaGUI_1.38.0.zip
###
##############################################################################
##############################################################################
  % Total    % Received % Xferd  Average Speed   Time    Time     Time  Current
                                 Dload  Upload   Total   Spent    Left  Speed
  0     0    0     0    0     0      0      0 --:--:-- --:--:-- --:--:--     0
100 2213k  100 2213k    0     0  40.0M      0 --:--:-- --:--:-- --:--:-- 40.7M
install for i386
ERROR: dependencies 'gWidgets', 'gWidgetsRGtk2' are not available for package 'mcaGUI'
* removing 'C:/Users/biocbuild/bbs-3.12-bioc/meat/mcaGUI.buildbin-libdir/mcaGUI'