| Back to Multiple platform build/check report for BioC 3.12 | 
 | 
This page was generated on 2021-05-06 12:35:35 -0400 (Thu, 06 May 2021).
| To the developers/maintainers of the mapscape package: Please make sure to use the following settings in order to reproduce any error or warning you see on this page. | 
| Package 999/1974 | Hostname | OS / Arch | INSTALL | BUILD | CHECK | BUILD BIN | ||||||||
| mapscape 1.14.0  (landing page) Maia Smith 
 | malbec1 | Linux (Ubuntu 18.04.5 LTS) / x86_64 | OK | OK | WARNINGS |  | ||||||||
| tokay1 | Windows Server 2012 R2 Standard / x64 | OK | OK | WARNINGS | OK |  | ||||||||
| merida1 | macOS 10.14.6 Mojave / x86_64 | OK | OK | WARNINGS | OK |  | ||||||||
| Package: mapscape | 
| Version: 1.14.0 | 
| Command: /Library/Frameworks/R.framework/Versions/Current/Resources/bin/R CMD build --keep-empty-dirs --no-resave-data mapscape | 
| StartedAt: 2021-05-05 20:26:01 -0400 (Wed, 05 May 2021) | 
| EndedAt: 2021-05-05 20:26:20 -0400 (Wed, 05 May 2021) | 
| EllapsedTime: 19.4 seconds | 
| RetCode: 0 | 
| Status: OK | 
| PackageFile: mapscape_1.14.0.tar.gz | 
| PackageFileSize: 4.794 MiB | 
############################################################################## ############################################################################## ### ### Running command: ### ### /Library/Frameworks/R.framework/Versions/Current/Resources/bin/R CMD build --keep-empty-dirs --no-resave-data mapscape ### ############################################################################## ############################################################################## * checking for file ‘mapscape/DESCRIPTION’ ... OK * preparing ‘mapscape’: * checking DESCRIPTION meta-information ... OK * installing the package to build vignettes * creating vignettes ... OK * checking for LF line-endings in source and make files and shell scripts * checking for empty or unneeded directories * building ‘mapscape_1.14.0.tar.gz’