| Back to Multiple platform build/check report for BioC 3.12 |
|
This page was generated on 2021-05-06 12:32:09 -0400 (Thu, 06 May 2021).
|
To the developers/maintainers of the mBPCR package: Please make sure to use the following settings in order to reproduce any error or warning you see on this page. |
| Package 1018/1974 | Hostname | OS / Arch | INSTALL | BUILD | CHECK | BUILD BIN | ||||||||
| mBPCR 1.44.0 (landing page) P.M.V. Rancoita
| malbec1 | Linux (Ubuntu 18.04.5 LTS) / x86_64 | OK | OK | OK | |||||||||
| tokay1 | Windows Server 2012 R2 Standard / x64 | OK | OK | OK | OK | |||||||||
| merida1 | macOS 10.14.6 Mojave / x86_64 | OK | OK | OK | OK | |||||||||
| Package: mBPCR |
| Version: 1.44.0 |
| Command: rm -rf mBPCR.buildbin-libdir && mkdir mBPCR.buildbin-libdir && C:\Users\biocbuild\bbs-3.12-bioc\R\bin\R.exe CMD INSTALL --merge-multiarch --build --library=mBPCR.buildbin-libdir mBPCR_1.44.0.tar.gz |
| StartedAt: 2021-05-06 09:27:26 -0400 (Thu, 06 May 2021) |
| EndedAt: 2021-05-06 09:28:04 -0400 (Thu, 06 May 2021) |
| EllapsedTime: 37.3 seconds |
| RetCode: 0 |
| Status: OK |
| PackageFile: mBPCR_1.44.0.zip |
| PackageFileSize: 828.1 KiB |
##############################################################################
##############################################################################
###
### Running command:
###
### rm -rf mBPCR.buildbin-libdir && mkdir mBPCR.buildbin-libdir && C:\Users\biocbuild\bbs-3.12-bioc\R\bin\R.exe CMD INSTALL --merge-multiarch --build --library=mBPCR.buildbin-libdir mBPCR_1.44.0.tar.gz
###
##############################################################################
##############################################################################
install for i386
* installing *source* package 'mBPCR' ...
** using staged installation
** R
** data
*** moving datasets to lazyload DB
** inst
** byte-compile and prepare package for lazy loading
Warning message:
In .recacheSubclasses(def@className, def, env) :
undefined subclass "numericVector" of class "Mnumeric"; definition not updated
** help
*** installing help indices
converting help for package 'mBPCR'
finding HTML links ... done
centromere html
computeMBPCR html
estGlobParam html
estProfileWithMBPCR html
estProfileWithMBPCRforOligoSnpSet html
importCNData html
jekoChr11Array250Knsp html
logAdd html
mBPCR-internal html
plotEstProfile html
rec10k html
writeEstProfile html
** building package indices
** installing vignettes
** testing if installed package can be loaded from temporary location
Warning in .recacheSubclasses(def@className, def, env) :
undefined subclass "numericVector" of class "Mnumeric"; definition not updated
** testing if installed package can be loaded from final location
Warning in .recacheSubclasses(def@className, def, env) :
undefined subclass "numericVector" of class "Mnumeric"; definition not updated
** testing if installed package keeps a record of temporary installation path
install for x64
* installing *source* package 'mBPCR' ...
** testing if installed package can be loaded
Warning in .recacheSubclasses(def@className, def, env) :
undefined subclass "numericVector" of class "Mnumeric"; definition not updated
* MD5 sums
packaged installation of 'mBPCR' as mBPCR_1.44.0.zip
* DONE (mBPCR)