| Back to Multiple platform build/check report for BioC 3.12 |
|
This page was generated on 2021-05-06 12:32:01 -0400 (Thu, 06 May 2021).
|
To the developers/maintainers of the lpNet package: Please make sure to use the following settings in order to reproduce any error or warning you see on this page. |
| Package 975/1974 | Hostname | OS / Arch | INSTALL | BUILD | CHECK | BUILD BIN | ||||||||
| lpNet 2.22.0 (landing page) Lars Kaderali
| malbec1 | Linux (Ubuntu 18.04.5 LTS) / x86_64 | OK | OK | WARNINGS | |||||||||
| tokay1 | Windows Server 2012 R2 Standard / x64 | OK | OK | WARNINGS | OK | |||||||||
| merida1 | macOS 10.14.6 Mojave / x86_64 | OK | OK | WARNINGS | OK | |||||||||
| Package: lpNet |
| Version: 2.22.0 |
| Command: chmod a+r lpNet -R && C:\Users\biocbuild\bbs-3.12-bioc\R\bin\R.exe CMD build --keep-empty-dirs --no-resave-data lpNet |
| StartedAt: 2021-05-05 21:48:36 -0400 (Wed, 05 May 2021) |
| EndedAt: 2021-05-05 21:49:20 -0400 (Wed, 05 May 2021) |
| EllapsedTime: 43.4 seconds |
| RetCode: 0 |
| Status: OK |
| PackageFile: lpNet_2.22.0.tar.gz |
| PackageFileSize: 251.7 KiB |
##############################################################################
##############################################################################
###
### Running command:
###
### chmod a+r lpNet -R && C:\Users\biocbuild\bbs-3.12-bioc\R\bin\R.exe CMD build --keep-empty-dirs --no-resave-data lpNet
###
##############################################################################
##############################################################################
* checking for file 'lpNet/DESCRIPTION' ... OK
* preparing 'lpNet':
* checking DESCRIPTION meta-information ... OK
* installing the package to build vignettes
* creating vignettes ... OK
Warning: 'inst/doc' files
'vignette_lpNet.Rnw', 'vignette_lpNet.pdf', 'vignette_lpNet.R'
ignored as vignettes have been rebuilt.
Run R CMD build with --no-build-vignettes to prevent rebuilding.
* checking for LF line-endings in source and make files and shell scripts
* checking for empty or unneeded directories
* looking to see if a 'data/datalist' file should be added
* building 'lpNet_2.22.0.tar.gz'