| Back to Multiple platform build/check report for BioC 3.12 |
|
This page was generated on 2021-05-06 12:35:28 -0400 (Thu, 06 May 2021).
|
To the developers/maintainers of the levi package: Please make sure to use the following settings in order to reproduce any error or warning you see on this page. |
| Package 953/1974 | Hostname | OS / Arch | INSTALL | BUILD | CHECK | BUILD BIN | ||||||||
| levi 1.8.0 (landing page) Jose Luiz Rybarczyk Filho
| malbec1 | Linux (Ubuntu 18.04.5 LTS) / x86_64 | OK | OK | OK | |||||||||
| tokay1 | Windows Server 2012 R2 Standard / x64 | OK | OK | OK | OK | |||||||||
| merida1 | macOS 10.14.6 Mojave / x86_64 | OK | OK | OK | OK | |||||||||
| Package: levi |
| Version: 1.8.0 |
| Command: /Library/Frameworks/R.framework/Versions/Current/Resources/bin/R CMD build --keep-empty-dirs --no-resave-data levi |
| StartedAt: 2021-05-05 20:19:55 -0400 (Wed, 05 May 2021) |
| EndedAt: 2021-05-05 20:21:38 -0400 (Wed, 05 May 2021) |
| EllapsedTime: 102.1 seconds |
| RetCode: 0 |
| Status: OK |
| PackageFile: levi_1.8.0.tar.gz |
| PackageFileSize: 2.504 MiB |
############################################################################## ############################################################################## ### ### Running command: ### ### /Library/Frameworks/R.framework/Versions/Current/Resources/bin/R CMD build --keep-empty-dirs --no-resave-data levi ### ############################################################################## ############################################################################## * checking for file ‘levi/DESCRIPTION’ ... OK * preparing ‘levi’: * checking DESCRIPTION meta-information ... OK * cleaning src * installing the package to build vignettes * creating vignettes ... OK * cleaning src * checking for LF line-endings in source and make files and shell scripts * checking for empty or unneeded directories * building ‘levi_1.8.0.tar.gz’