| Back to Multiple platform build/check report for BioC 3.12 | 
 | 
This page was generated on 2021-05-06 12:31:50 -0400 (Thu, 06 May 2021).
| To the developers/maintainers of the infinityFlow package: Please make sure to use the following settings in order to reproduce any error or warning you see on this page. | 
| Package 894/1974 | Hostname | OS / Arch | INSTALL | BUILD | CHECK | BUILD BIN | ||||||||
| infinityFlow 1.0.0  (landing page) Etienne Becht 
 | malbec1 | Linux (Ubuntu 18.04.5 LTS) / x86_64 | OK | OK | OK |  | ||||||||
| tokay1 | Windows Server 2012 R2 Standard / x64 | OK | OK | OK | OK |  | ||||||||
| merida1 | macOS 10.14.6 Mojave / x86_64 | OK | OK | OK | OK |  | ||||||||
| Package: infinityFlow | 
| Version: 1.0.0 | 
| Command: rm -rf infinityFlow.buildbin-libdir && mkdir infinityFlow.buildbin-libdir && C:\Users\biocbuild\bbs-3.12-bioc\R\bin\R.exe CMD INSTALL --merge-multiarch --build --library=infinityFlow.buildbin-libdir infinityFlow_1.0.0.tar.gz | 
| StartedAt: 2021-05-06 09:20:09 -0400 (Thu, 06 May 2021) | 
| EndedAt: 2021-05-06 09:20:58 -0400 (Thu, 06 May 2021) | 
| EllapsedTime: 48.5 seconds | 
| RetCode: 0 | 
| Status: OK | 
| PackageFile: infinityFlow_1.0.0.zip | 
| PackageFileSize: 1.79 MiB | 
##############################################################################
##############################################################################
###
### Running command:
###
###   rm -rf infinityFlow.buildbin-libdir && mkdir infinityFlow.buildbin-libdir && C:\Users\biocbuild\bbs-3.12-bioc\R\bin\R.exe CMD INSTALL --merge-multiarch --build --library=infinityFlow.buildbin-libdir infinityFlow_1.0.0.tar.gz
###
##############################################################################
##############################################################################
install for i386
* installing *source* package 'infinityFlow' ...
** using staged installation
** R
** data
** inst
** byte-compile and prepare package for lazy loading
** help
*** installing help indices
  converting help for package 'infinityFlow'
    finding HTML links ... done
    fitter_glmnet                           html  
    fitter_linear                           html  
    fitter_nn                               html  
    fitter_svm                              html  
    fitter_xgboost                          html  
    infinity_flow                           html  
    select_backbone_and_exploratory_markers
                                            html  
    steady_state_lung                       html  
    steady_state_lung_annotation            html  
    steady_state_lung_backbone_specification
                                            html  
** building package indices
** installing vignettes
** testing if installed package can be loaded from temporary location
** testing if installed package can be loaded from final location
** testing if installed package keeps a record of temporary installation path
install for x64
* installing *source* package 'infinityFlow' ...
** testing if installed package can be loaded
* MD5 sums
packaged installation of 'infinityFlow' as infinityFlow_1.0.0.zip
* DONE (infinityFlow)