Back to Multiple platform build/check report for BioC 3.12 |
|
This page was generated on 2021-05-06 12:31:50 -0400 (Thu, 06 May 2021).
To the developers/maintainers of the impute package: Please make sure to use the following settings in order to reproduce any error or warning you see on this page. |
Package 891/1974 | Hostname | OS / Arch | INSTALL | BUILD | CHECK | BUILD BIN | ||||||||
impute 1.64.0 (landing page) Balasubramanian Narasimhan
| malbec1 | Linux (Ubuntu 18.04.5 LTS) / x86_64 | OK | OK | OK | |||||||||
tokay1 | Windows Server 2012 R2 Standard / x64 | OK | OK | OK | OK | |||||||||
merida1 | macOS 10.14.6 Mojave / x86_64 | OK | OK | OK | OK | |||||||||
Package: impute |
Version: 1.64.0 |
Command: C:\cygwin\bin\curl.exe -O http://172.29.0.3/BBS/3.12/bioc/src/contrib/impute_1.64.0.tar.gz && rm -rf impute.buildbin-libdir && mkdir impute.buildbin-libdir && C:\Users\biocbuild\bbs-3.12-bioc\R\bin\R.exe CMD INSTALL --merge-multiarch --build --library=impute.buildbin-libdir impute_1.64.0.tar.gz && C:\Users\biocbuild\bbs-3.12-bioc\R\bin\R.exe CMD INSTALL impute_1.64.0.zip && rm impute_1.64.0.tar.gz impute_1.64.0.zip |
StartedAt: 2021-05-05 16:35:55 -0400 (Wed, 05 May 2021) |
EndedAt: 2021-05-05 16:39:10 -0400 (Wed, 05 May 2021) |
EllapsedTime: 194.5 seconds |
RetCode: 0 |
Status: OK |
############################################################################## ############################################################################## ### ### Running command: ### ### C:\cygwin\bin\curl.exe -O http://172.29.0.3/BBS/3.12/bioc/src/contrib/impute_1.64.0.tar.gz && rm -rf impute.buildbin-libdir && mkdir impute.buildbin-libdir && C:\Users\biocbuild\bbs-3.12-bioc\R\bin\R.exe CMD INSTALL --merge-multiarch --build --library=impute.buildbin-libdir impute_1.64.0.tar.gz && C:\Users\biocbuild\bbs-3.12-bioc\R\bin\R.exe CMD INSTALL impute_1.64.0.zip && rm impute_1.64.0.tar.gz impute_1.64.0.zip ### ############################################################################## ############################################################################## % Total % Received % Xferd Average Speed Time Time Time Current Dload Upload Total Spent Left Speed 0 0 0 0 0 0 0 0 --:--:-- --:--:-- --:--:-- 0 100 626k 100 626k 0 0 4985k 0 --:--:-- --:--:-- --:--:-- 5048k install for i386 * installing *source* package 'impute' ... ** using staged installation ** libs "C:/rtools40/mingw32/bin/"gfortran -fno-optimize-sibling-calls -O2 -mfpmath=sse -msse2 -mstackrealign -c knnimpute.f -o knnimpute.o C:/rtools40/mingw32/bin/gcc -shared -s -static-libgcc -o impute.dll tmp.def knnimpute.o -LC:/extsoft/lib/i386 -LC:/extsoft/lib -lgfortran -lm -lquadmath -LC:/Users/BIOCBU~1/BBS-3~1.12-/R/bin/i386 -lR installing to C:/Users/biocbuild/bbs-3.12-bioc/meat/impute.buildbin-libdir/00LOCK-impute/00new/impute/libs/i386 ** R ** data ** byte-compile and prepare package for lazy loading ** help *** installing help indices converting help for package 'impute' finding HTML links ... done impute.knn html khanmiss html ** building package indices ** testing if installed package can be loaded from temporary location ** testing if installed package can be loaded from final location ** testing if installed package keeps a record of temporary installation path install for x64 * installing *source* package 'impute' ... ** libs "C:/rtools40/mingw64/bin/"gfortran -fno-optimize-sibling-calls -O2 -mfpmath=sse -msse2 -mstackrealign -c knnimpute.f -o knnimpute.o C:/rtools40/mingw64/bin/gcc -shared -s -static-libgcc -o impute.dll tmp.def knnimpute.o -LC:/extsoft/lib/x64 -LC:/extsoft/lib -lgfortran -lm -lquadmath -LC:/Users/BIOCBU~1/BBS-3~1.12-/R/bin/x64 -lR installing to C:/Users/biocbuild/bbs-3.12-bioc/meat/impute.buildbin-libdir/impute/libs/x64 ** testing if installed package can be loaded * MD5 sums packaged installation of 'impute' as impute_1.64.0.zip * DONE (impute) * installing to library 'C:/Users/biocbuild/bbs-3.12-bioc/R/library' package 'impute' successfully unpacked and MD5 sums checked