| Back to Multiple platform build/check report for BioC 3.12 |
|
This page was generated on 2021-05-06 12:35:21 -0400 (Thu, 06 May 2021).
|
To the developers/maintainers of the ideal package: Please make sure to use the following settings in order to reproduce any error or warning you see on this page. |
| Package 871/1974 | Hostname | OS / Arch | INSTALL | BUILD | CHECK | BUILD BIN | ||||||||
| ideal 1.14.0 (landing page) Federico Marini
| malbec1 | Linux (Ubuntu 18.04.5 LTS) / x86_64 | OK | OK | OK | |||||||||
| tokay1 | Windows Server 2012 R2 Standard / x64 | OK | OK | OK | OK | |||||||||
| merida1 | macOS 10.14.6 Mojave / x86_64 | OK | OK | OK | OK | |||||||||
| Package: ideal |
| Version: 1.14.0 |
| Command: rm -rf ideal.buildbin-libdir && mkdir ideal.buildbin-libdir && /Users/biocbuild/BBS/utils/build-universal.sh ideal_1.14.0.tar.gz /Library/Frameworks/R.framework/Versions/Current/Resources/bin/R ideal.buildbin-libdir |
| StartedAt: 2021-05-06 08:56:40 -0400 (Thu, 06 May 2021) |
| EndedAt: 2021-05-06 08:57:42 -0400 (Thu, 06 May 2021) |
| EllapsedTime: 61.9 seconds |
| RetCode: 0 |
| Status: OK |
| PackageFile: ideal_1.14.0.tgz |
| PackageFileSize: 2.398 MiB |
############################################################################## ############################################################################## ### ### Running command: ### ### rm -rf ideal.buildbin-libdir && mkdir ideal.buildbin-libdir && /Users/biocbuild/BBS/utils/build-universal.sh ideal_1.14.0.tar.gz /Library/Frameworks/R.framework/Versions/Current/Resources/bin/R ideal.buildbin-libdir ### ############################################################################## ############################################################################## >>>>>>> >>>>>>> INSTALLATION WITH 'R CMD INSTALL --preclean --no-multiarch --library=ideal.buildbin-libdir ideal_1.14.0.tar.gz' >>>>>>> * installing *source* package ‘ideal’ ... ** using staged installation ** R ** inst ** byte-compile and prepare package for lazy loading groupGOTerms: GOBPTerm, GOMFTerm, GOCCTerm environments built. ** help *** installing help indices ** building package indices ** installing vignettes ** testing if installed package can be loaded from temporary location groupGOTerms: GOBPTerm, GOMFTerm, GOCCTerm environments built. ** testing if installed package can be loaded from final location groupGOTerms: GOBPTerm, GOMFTerm, GOCCTerm environments built. ** testing if installed package keeps a record of temporary installation path * DONE (ideal)