| Back to Multiple platform build/check report for BioC 3.12 |
|
This page was generated on 2021-05-06 12:28:01 -0400 (Thu, 06 May 2021).
|
To the developers/maintainers of the iPAC package: Please make sure to use the following settings in order to reproduce any error or warning you see on this page. |
| Package 909/1974 | Hostname | OS / Arch | INSTALL | BUILD | CHECK | BUILD BIN | ||||||||
| iPAC 1.34.0 (landing page) Gregory Ryslik
| malbec1 | Linux (Ubuntu 18.04.5 LTS) / x86_64 | OK | OK | OK | |||||||||
| tokay1 | Windows Server 2012 R2 Standard / x64 | OK | OK | ERROR | OK | |||||||||
| merida1 | macOS 10.14.6 Mojave / x86_64 | OK | OK | OK | OK | |||||||||
| Package: iPAC |
| Version: 1.34.0 |
| Command: /home/biocbuild/bbs-3.12-bioc/R/bin/R CMD build --keep-empty-dirs --no-resave-data iPAC |
| StartedAt: 2021-05-05 19:49:37 -0400 (Wed, 05 May 2021) |
| EndedAt: 2021-05-05 19:49:55 -0400 (Wed, 05 May 2021) |
| EllapsedTime: 18.3 seconds |
| RetCode: 0 |
| Status: OK |
| PackageFile: iPAC_1.34.0.tar.gz |
| PackageFileSize: 510.4 KiB |
############################################################################## ############################################################################## ### ### Running command: ### ### /home/biocbuild/bbs-3.12-bioc/R/bin/R CMD build --keep-empty-dirs --no-resave-data iPAC ### ############################################################################## ############################################################################## * checking for file ‘iPAC/DESCRIPTION’ ... OK * preparing ‘iPAC’: * checking DESCRIPTION meta-information ... OK * installing the package to build vignettes * creating vignettes ... OK * checking for LF line-endings in source and make files and shell scripts * checking for empty or unneeded directories * looking to see if a ‘data/datalist’ file should be added * building ‘iPAC_1.34.0.tar.gz’