| Back to Multiple platform build/check report for BioC 3.12 |
|
This page was generated on 2021-05-06 12:27:55 -0400 (Thu, 06 May 2021).
|
To the developers/maintainers of the iChip package: Please make sure to use the following settings in order to reproduce any error or warning you see on this page. |
| Package 867/1974 | Hostname | OS / Arch | INSTALL | BUILD | CHECK | BUILD BIN | ||||||||
| iChip 1.44.0 (landing page) Qianxing Mo
| malbec1 | Linux (Ubuntu 18.04.5 LTS) / x86_64 | OK | OK | OK | |||||||||
| tokay1 | Windows Server 2012 R2 Standard / x64 | OK | OK | OK | OK | |||||||||
| merida1 | macOS 10.14.6 Mojave / x86_64 | OK | OK | OK | OK | |||||||||
| Package: iChip |
| Version: 1.44.0 |
| Command: /home/biocbuild/bbs-3.12-bioc/R/bin/R CMD build --keep-empty-dirs --no-resave-data iChip |
| StartedAt: 2021-05-05 19:42:46 -0400 (Wed, 05 May 2021) |
| EndedAt: 2021-05-05 19:43:26 -0400 (Wed, 05 May 2021) |
| EllapsedTime: 40.2 seconds |
| RetCode: 0 |
| Status: OK |
| PackageFile: iChip_1.44.0.tar.gz |
| PackageFileSize: 1.61 MiB |
##############################################################################
##############################################################################
###
### Running command:
###
### /home/biocbuild/bbs-3.12-bioc/R/bin/R CMD build --keep-empty-dirs --no-resave-data iChip
###
##############################################################################
##############################################################################
* checking for file ‘iChip/DESCRIPTION’ ... OK
* preparing ‘iChip’:
* checking DESCRIPTION meta-information ... OK
* cleaning src
* running ‘cleanup’
* installing the package to build vignettes
* creating vignettes ... OK
Warning: ‘inst/doc’ file
‘iChip.pdf’
ignored as vignettes have been rebuilt.
Run R CMD build with --no-build-vignettes to prevent rebuilding.
* cleaning src
* running ‘cleanup’
* checking for LF line-endings in source and make files and shell scripts
* checking for empty or unneeded directories
* building ‘iChip_1.44.0.tar.gz’