| Back to Multiple platform build/check report for BioC 3.12 |
|
This page was generated on 2021-05-06 12:35:20 -0400 (Thu, 06 May 2021).
|
To the developers/maintainers of the iCheck package: Please make sure to use the following settings in order to reproduce any error or warning you see on this page. |
| Package 866/1974 | Hostname | OS / Arch | INSTALL | BUILD | CHECK | BUILD BIN | ||||||||
| iCheck 1.20.0 (landing page) Weiliang Qiu
| malbec1 | Linux (Ubuntu 18.04.5 LTS) / x86_64 | OK | OK | OK | |||||||||
| tokay1 | Windows Server 2012 R2 Standard / x64 | OK | OK | OK | OK | |||||||||
| merida1 | macOS 10.14.6 Mojave / x86_64 | ERROR | ERROR | skipped | skipped | |||||||||
| Package: iCheck |
| Version: 1.20.0 |
| Command: /Library/Frameworks/R.framework/Versions/Current/Resources/bin/R CMD build --keep-empty-dirs --no-resave-data iCheck |
| StartedAt: 2021-05-05 20:05:08 -0400 (Wed, 05 May 2021) |
| EndedAt: 2021-05-05 20:05:38 -0400 (Wed, 05 May 2021) |
| EllapsedTime: 30.3 seconds |
| RetCode: 1 |
| Status: ERROR |
| PackageFile: None |
| PackageFileSize: NA |
##############################################################################
##############################################################################
###
### Running command:
###
### /Library/Frameworks/R.framework/Versions/Current/Resources/bin/R CMD build --keep-empty-dirs --no-resave-data iCheck
###
##############################################################################
##############################################################################
* checking for file ‘iCheck/DESCRIPTION’ ... OK
* preparing ‘iCheck’:
* checking DESCRIPTION meta-information ... OK
* checking whether ‘INDEX’ is up-to-date ... NO
* use ‘--force’ to remove the existing ‘INDEX’
* installing the package to build vignettes
-----------------------------------
* installing *source* package ‘iCheck’ ...
** using staged installation
** R
** byte-compile and prepare package for lazy loading
No methods found in package ‘RSQLite’ for request: ‘dbListFields’ when loading ‘lumi’
ERROR: lazy loading failed for package ‘iCheck’
* removing ‘/private/tmp/RtmpdoKMME/Rinstffcd71460653/iCheck’
-----------------------------------
ERROR: package installation failed