| Back to Multiple platform build/check report for BioC 3.12 |
|
This page was generated on 2021-05-06 12:31:46 -0400 (Thu, 06 May 2021).
|
To the developers/maintainers of the hmdbQuery package: Please make sure to use the following settings in order to reproduce any error or warning you see on this page. |
| Package 843/1974 | Hostname | OS / Arch | INSTALL | BUILD | CHECK | BUILD BIN | ||||||||
| hmdbQuery 1.10.1 (landing page) VJ Carey
| malbec1 | Linux (Ubuntu 18.04.5 LTS) / x86_64 | OK | OK | OK | |||||||||
| tokay1 | Windows Server 2012 R2 Standard / x64 | OK | OK | OK | OK | |||||||||
| merida1 | macOS 10.14.6 Mojave / x86_64 | OK | OK | OK | OK | |||||||||
| Package: hmdbQuery |
| Version: 1.10.1 |
| Command: rm -rf hmdbQuery.buildbin-libdir && mkdir hmdbQuery.buildbin-libdir && C:\Users\biocbuild\bbs-3.12-bioc\R\bin\R.exe CMD INSTALL --merge-multiarch --build --library=hmdbQuery.buildbin-libdir hmdbQuery_1.10.1.tar.gz |
| StartedAt: 2021-05-06 09:17:25 -0400 (Thu, 06 May 2021) |
| EndedAt: 2021-05-06 09:17:53 -0400 (Thu, 06 May 2021) |
| EllapsedTime: 28.1 seconds |
| RetCode: 0 |
| Status: OK |
| PackageFile: hmdbQuery_1.10.1.zip |
| PackageFileSize: 887.3 KiB |
##############################################################################
##############################################################################
###
### Running command:
###
### rm -rf hmdbQuery.buildbin-libdir && mkdir hmdbQuery.buildbin-libdir && C:\Users\biocbuild\bbs-3.12-bioc\R\bin\R.exe CMD INSTALL --merge-multiarch --build --library=hmdbQuery.buildbin-libdir hmdbQuery_1.10.1.tar.gz
###
##############################################################################
##############################################################################
install for i386
* installing *source* package 'hmdbQuery' ...
** using staged installation
** R
** data
** inst
** byte-compile and prepare package for lazy loading
** help
*** installing help indices
converting help for package 'hmdbQuery'
finding HTML links ... done
HmdbEntry-class html
HmdbEntry html
biospecimens-HmdbEntry-method html
diseases-HmdbEntry-method html
hmdb1 html
hmdb_disease html
hmdb_gene html
hmdb_omim html
hmdb_protein html
store-HmdbEntry-method html
tissues-HmdbEntry-method html
** building package indices
** installing vignettes
** testing if installed package can be loaded from temporary location
** testing if installed package can be loaded from final location
** testing if installed package keeps a record of temporary installation path
install for x64
* installing *source* package 'hmdbQuery' ...
** testing if installed package can be loaded
* MD5 sums
packaged installation of 'hmdbQuery' as hmdbQuery_1.10.1.zip
* DONE (hmdbQuery)