| Back to Multiple platform build/check report for BioC 3.12 |
|
This page was generated on 2021-05-06 12:35:13 -0400 (Thu, 06 May 2021).
|
To the developers/maintainers of the h5vc package: Please make sure to use the following settings in order to reproduce any error or warning you see on this page. |
| Package 812/1974 | Hostname | OS / Arch | INSTALL | BUILD | CHECK | BUILD BIN | ||||||||
| h5vc 2.24.0 (landing page) Paul Theodor Pyl
| malbec1 | Linux (Ubuntu 18.04.5 LTS) / x86_64 | OK | OK | OK | |||||||||
| tokay1 | Windows Server 2012 R2 Standard / x64 | OK | OK | WARNINGS | OK | |||||||||
| merida1 | macOS 10.14.6 Mojave / x86_64 | OK | OK | OK | OK | |||||||||
| Package: h5vc |
| Version: 2.24.0 |
| Command: rm -rf h5vc.buildbin-libdir && mkdir h5vc.buildbin-libdir && /Users/biocbuild/BBS/utils/build-universal.sh h5vc_2.24.0.tar.gz /Library/Frameworks/R.framework/Versions/Current/Resources/bin/R h5vc.buildbin-libdir |
| StartedAt: 2021-05-06 08:52:26 -0400 (Thu, 06 May 2021) |
| EndedAt: 2021-05-06 08:53:22 -0400 (Thu, 06 May 2021) |
| EllapsedTime: 55.8 seconds |
| RetCode: 0 |
| Status: OK |
| PackageFile: h5vc_2.24.0.tgz |
| PackageFileSize: 1.629 MiB |
##############################################################################
##############################################################################
###
### Running command:
###
### rm -rf h5vc.buildbin-libdir && mkdir h5vc.buildbin-libdir && /Users/biocbuild/BBS/utils/build-universal.sh h5vc_2.24.0.tar.gz /Library/Frameworks/R.framework/Versions/Current/Resources/bin/R h5vc.buildbin-libdir
###
##############################################################################
##############################################################################
>>>>>>>
>>>>>>> INSTALLATION WITH 'R CMD INSTALL --preclean --no-multiarch --library=h5vc.buildbin-libdir h5vc_2.24.0.tar.gz'
>>>>>>>
* installing *source* package ‘h5vc’ ...
** using staged installation
** libs
clang -mmacosx-version-min=10.13 -I"/Library/Frameworks/R.framework/Resources/include" -DNDEBUG -D_FILE_OFFSET_BITS=64 -I'/Library/Frameworks/R.framework/Versions/4.0/Resources/library/Rhtslib/include' -I/usr/local/include -fPIC -Wall -g -O2 -c bam.c -o bam.o
clang -mmacosx-version-min=10.13 -I"/Library/Frameworks/R.framework/Resources/include" -DNDEBUG -D_FILE_OFFSET_BITS=64 -I'/Library/Frameworks/R.framework/Versions/4.0/Resources/library/Rhtslib/include' -I/usr/local/include -fPIC -Wall -g -O2 -c bam_plbuf.c -o bam_plbuf.o
clang -mmacosx-version-min=10.13 -I"/Library/Frameworks/R.framework/Resources/include" -DNDEBUG -D_FILE_OFFSET_BITS=64 -I'/Library/Frameworks/R.framework/Versions/4.0/Resources/library/Rhtslib/include' -I/usr/local/include -fPIC -Wall -g -O2 -c sam.c -o sam.o
clang++ -mmacosx-version-min=10.13 -std=gnu++11 -I"/Library/Frameworks/R.framework/Resources/include" -DNDEBUG -D_FILE_OFFSET_BITS=64 -I'/Library/Frameworks/R.framework/Versions/4.0/Resources/library/Rhtslib/include' -I/usr/local/include -fPIC -Wall -g -O2 -c tallyBAM.cpp -o tallyBAM.o
tallyBAM.cpp:47:7: warning: unused variable 'len' [-Wunused-variable]
int len = nttable->end - nttable->beg;
^
tallyBAM.cpp:60:18: warning: variable 'c' is used uninitialized whenever 'if' condition is false [-Wsometimes-uninitialized]
}else if(p->indel > 0){
^~~~~~~~~~~~
tallyBAM.cpp:64:16: note: uninitialized use occurs here
str += c;
^
tallyBAM.cpp:60:15: note: remove the 'if' if its condition is always true
}else if(p->indel > 0){
^~~~~~~~~~~~~~~~
tallyBAM.cpp:55:15: note: initialize the variable 'c' to silence this warning
char c;
^
= '\0'
tallyBAM.cpp:96:7: warning: unused variable 'len' [-Wunused-variable]
int len = nttable->end - nttable->beg;
^
tallyBAM.cpp:140:6: warning: unused variable 'c' [-Wunused-variable]
int c = 0;
^
tallyBAM.cpp:43:12: warning: unused function 'pileup_func_old' [-Wunused-function]
static int pileup_func_old(uint32_t tid, uint32_t pos, int n, const bam_pileup1_t *pl, void *data)
^
5 warnings generated.
clang++ -mmacosx-version-min=10.13 -std=gnu++11 -dynamiclib -Wl,-headerpad_max_install_names -undefined dynamic_lookup -single_module -multiply_defined suppress -L/Library/Frameworks/R.framework/Resources/lib -L/usr/local/lib -o h5vc.so bam.o bam_plbuf.o sam.o tallyBAM.o /Library/Frameworks/R.framework/Versions/4.0/Resources/library/Rhtslib/usrlib/libhts.a -lcurl -F/Library/Frameworks/R.framework/.. -framework R -Wl,-framework -Wl,CoreFoundation
installing to /Users/biocbuild/bbs-3.12-bioc/meat/h5vc.buildbin-libdir/00LOCK-h5vc/00new/h5vc/libs
** R
** data
** inst
** byte-compile and prepare package for lazy loading
** help
*** installing help indices
** building package indices
** installing vignettes
** testing if installed package can be loaded from temporary location
** checking absolute paths in shared objects and dynamic libraries
** testing if installed package can be loaded from final location
** testing if installed package keeps a record of temporary installation path
* DONE (h5vc)
>>>>>>>
>>>>>>> FIXING LINKS FOR h5vc.buildbin-libdir/h5vc/libs/h5vc.so
>>>>>>>
install_name_tool -change "/usr/local/lib/libgcc_s.1.dylib" "/Library/Frameworks/R.framework/Versions/4.0/Resources/lib/libgcc_s.1.dylib" "h5vc.buildbin-libdir/h5vc/libs/h5vc.so"
install_name_tool -change "/usr/local/lib/libgfortran.5.dylib" "/Library/Frameworks/R.framework/Versions/4.0/Resources/lib/libgfortran.5.dylib" "h5vc.buildbin-libdir/h5vc/libs/h5vc.so"
install_name_tool -change "/usr/local/lib/libquadmath.0.dylib" "/Library/Frameworks/R.framework/Versions/4.0/Resources/lib/libquadmath.0.dylib" "h5vc.buildbin-libdir/h5vc/libs/h5vc.so"