| Back to Multiple platform build/check report for BioC 3.12 |
|
This page was generated on 2021-05-06 12:35:12 -0400 (Thu, 06 May 2021).
|
To the developers/maintainers of the gtrellis package: Please make sure to use the following settings in order to reproduce any error or warning you see on this page. |
| Package 803/1974 | Hostname | OS / Arch | INSTALL | BUILD | CHECK | BUILD BIN | ||||||||
| gtrellis 1.22.0 (landing page) Zuguang Gu
| malbec1 | Linux (Ubuntu 18.04.5 LTS) / x86_64 | OK | OK | OK | |||||||||
| tokay1 | Windows Server 2012 R2 Standard / x64 | OK | OK | OK | OK | |||||||||
| merida1 | macOS 10.14.6 Mojave / x86_64 | OK | OK | OK | OK | |||||||||
| Package: gtrellis |
| Version: 1.22.0 |
| Command: /Library/Frameworks/R.framework/Versions/Current/Resources/bin/R CMD build --keep-empty-dirs --no-resave-data gtrellis |
| StartedAt: 2021-05-05 19:53:59 -0400 (Wed, 05 May 2021) |
| EndedAt: 2021-05-05 19:57:46 -0400 (Wed, 05 May 2021) |
| EllapsedTime: 227.6 seconds |
| RetCode: 0 |
| Status: OK |
| PackageFile: gtrellis_1.22.0.tar.gz |
| PackageFileSize: 2.04 MiB |
############################################################################## ############################################################################## ### ### Running command: ### ### /Library/Frameworks/R.framework/Versions/Current/Resources/bin/R CMD build --keep-empty-dirs --no-resave-data gtrellis ### ############################################################################## ############################################################################## * checking for file ‘gtrellis/DESCRIPTION’ ... OK * preparing ‘gtrellis’: * checking DESCRIPTION meta-information ... OK * installing the package to build vignettes * creating vignettes ... OK * checking for LF line-endings in source and make files and shell scripts * checking for empty or unneeded directories WARNING: directory ‘gtrellis/test’ is empty * building ‘gtrellis_1.22.0.tar.gz’