| Back to Multiple platform build/check report for BioC 3.12 |
|
This page was generated on 2021-05-06 12:31:40 -0400 (Thu, 06 May 2021).
|
To the developers/maintainers of the graphite package: Please make sure to use the following settings in order to reproduce any error or warning you see on this page. |
| Package 783/1974 | Hostname | OS / Arch | INSTALL | BUILD | CHECK | BUILD BIN | ||||||||
| graphite 1.36.0 (landing page) Gabriele Sales
| malbec1 | Linux (Ubuntu 18.04.5 LTS) / x86_64 | OK | OK | OK | |||||||||
| tokay1 | Windows Server 2012 R2 Standard / x64 | OK | OK | OK | OK | |||||||||
| merida1 | macOS 10.14.6 Mojave / x86_64 | OK | OK | OK | OK | |||||||||
| Package: graphite |
| Version: 1.36.0 |
| Command: chmod a+r graphite -R && C:\Users\biocbuild\bbs-3.12-bioc\R\bin\R.exe CMD build --keep-empty-dirs --no-resave-data graphite |
| StartedAt: 2021-05-05 21:21:25 -0400 (Wed, 05 May 2021) |
| EndedAt: 2021-05-05 21:22:29 -0400 (Wed, 05 May 2021) |
| EllapsedTime: 63.9 seconds |
| RetCode: 0 |
| Status: OK |
| PackageFile: graphite_1.36.0.tar.gz |
| PackageFileSize: 761.1 KiB |
############################################################################## ############################################################################## ### ### Running command: ### ### chmod a+r graphite -R && C:\Users\biocbuild\bbs-3.12-bioc\R\bin\R.exe CMD build --keep-empty-dirs --no-resave-data graphite ### ############################################################################## ############################################################################## * checking for file 'graphite/DESCRIPTION' ... OK * preparing 'graphite': * checking DESCRIPTION meta-information ... OK * installing the package to build vignettes * creating vignettes ... OK * checking for LF line-endings in source and make files and shell scripts * checking for empty or unneeded directories * building 'graphite_1.36.0.tar.gz'