| Back to Multiple platform build/check report for BioC 3.12 | 
  | 
This page was generated on 2021-05-06 12:35:10 -0400 (Thu, 06 May 2021).
| 
To the developers/maintainers of the gramm4R package: Please make sure to use the following settings in order to reproduce any error or warning you see on this page.  | 
| Package 778/1974 | Hostname | OS / Arch | INSTALL | BUILD | CHECK | BUILD BIN | ||||||||
| gramm4R 1.4.0  (landing page) Tianlu Chen 
  | malbec1 | Linux (Ubuntu 18.04.5 LTS) / x86_64 | ERROR | ERROR | skipped | |||||||||
| tokay1 | Windows Server 2012 R2 Standard / x64 | ERROR | ERROR | skipped | skipped | |||||||||
| merida1 | macOS 10.14.6 Mojave / x86_64 | ERROR | ERROR | skipped | skipped | |||||||||
| Package: gramm4R | 
| Version: 1.4.0 | 
| Command: /Library/Frameworks/R.framework/Versions/Current/Resources/bin/R CMD build --keep-empty-dirs --no-resave-data gramm4R | 
| StartedAt: 2021-05-05 19:49:42 -0400 (Wed, 05 May 2021) | 
| EndedAt: 2021-05-05 19:49:52 -0400 (Wed, 05 May 2021) | 
| EllapsedTime: 9.7 seconds | 
| RetCode: 1 | 
| Status: ERROR | 
| PackageFile: None | 
| PackageFileSize: NA | 
##############################################################################
##############################################################################
###
### Running command:
###
###   /Library/Frameworks/R.framework/Versions/Current/Resources/bin/R CMD build --keep-empty-dirs --no-resave-data gramm4R
###
##############################################################################
##############################################################################
* checking for file ‘gramm4R/DESCRIPTION’ ... OK
* preparing ‘gramm4R’:
* checking DESCRIPTION meta-information ... OK
* installing the package to build vignettes
      -----------------------------------
ERROR: dependency ‘DMwR’ is not available for package ‘gramm4R’
* removing ‘/private/tmp/RtmpQJwEQl/Rinst942e60d83a3e/gramm4R’
      -----------------------------------
ERROR: package installation failed