| Back to Multiple platform build/check report for BioC 3.12 |
|
This page was generated on 2021-05-06 12:35:10 -0400 (Thu, 06 May 2021).
|
To the developers/maintainers of the goProfiles package: Please make sure to use the following settings in order to reproduce any error or warning you see on this page. |
| Package 762/1974 | Hostname | OS / Arch | INSTALL | BUILD | CHECK | BUILD BIN | ||||||||
| goProfiles 1.52.0 (landing page) Alex Sanchez
| malbec1 | Linux (Ubuntu 18.04.5 LTS) / x86_64 | OK | OK | OK | |||||||||
| tokay1 | Windows Server 2012 R2 Standard / x64 | OK | OK | OK | OK | |||||||||
| merida1 | macOS 10.14.6 Mojave / x86_64 | OK | OK | OK | OK | |||||||||
| Package: goProfiles |
| Version: 1.52.0 |
| Command: /Library/Frameworks/R.framework/Versions/Current/Resources/bin/R CMD build --keep-empty-dirs --no-resave-data goProfiles |
| StartedAt: 2021-05-05 19:46:53 -0400 (Wed, 05 May 2021) |
| EndedAt: 2021-05-05 19:47:44 -0400 (Wed, 05 May 2021) |
| EllapsedTime: 50.6 seconds |
| RetCode: 0 |
| Status: OK |
| PackageFile: goProfiles_1.52.0.tar.gz |
| PackageFileSize: 283.8 KiB |
##############################################################################
##############################################################################
###
### Running command:
###
### /Library/Frameworks/R.framework/Versions/Current/Resources/bin/R CMD build --keep-empty-dirs --no-resave-data goProfiles
###
##############################################################################
##############################################################################
* checking for file ‘goProfiles/DESCRIPTION’ ... OK
* preparing ‘goProfiles’:
* checking DESCRIPTION meta-information ... OK
* installing the package to build vignettes
* creating vignettes ... OK
Warning: ‘inst/doc’ files
‘goProfiles.Rnw’, ‘goProfiles.pdf’, ‘goProfiles.R’
ignored as vignettes have been rebuilt.
Run R CMD build with --no-build-vignettes to prevent rebuilding.
* checking for LF line-endings in source and make files and shell scripts
* checking for empty or unneeded directories
* looking to see if a ‘data/datalist’ file should be added
* building ‘goProfiles_1.52.0.tar.gz’