| Back to Multiple platform build/check report for BioC 3.12 | 
 | 
This page was generated on 2021-05-06 12:35:09 -0400 (Thu, 06 May 2021).
| To the developers/maintainers of the gmapR package: Please make sure to use the following settings in order to reproduce any error or warning you see on this page. | 
| Package 753/1974 | Hostname | OS / Arch | INSTALL | BUILD | CHECK | BUILD BIN | ||||||||
| gmapR 1.32.0  (landing page) Michael Lawrence 
 | malbec1 | Linux (Ubuntu 18.04.5 LTS) / x86_64 | OK | OK | WARNINGS |  | ||||||||
| tokay1 | Windows Server 2012 R2 Standard / x64 | ... NOT SUPPORTED ... | ||||||||||||
| merida1 | macOS 10.14.6 Mojave / x86_64 | OK | OK | WARNINGS | OK |  | ||||||||
| Package: gmapR | 
| Version: 1.32.0 | 
| Command: /Library/Frameworks/R.framework/Versions/Current/Resources/bin/R CMD build --keep-empty-dirs --no-resave-data gmapR | 
| StartedAt: 2021-05-05 19:43:55 -0400 (Wed, 05 May 2021) | 
| EndedAt: 2021-05-05 19:52:46 -0400 (Wed, 05 May 2021) | 
| EllapsedTime: 531.6 seconds | 
| RetCode: 0 | 
| Status: OK | 
| PackageFile: gmapR_1.32.0.tar.gz | 
| PackageFileSize: 25.8 MiB | 
############################################################################## ############################################################################## ### ### Running command: ### ### /Library/Frameworks/R.framework/Versions/Current/Resources/bin/R CMD build --keep-empty-dirs --no-resave-data gmapR ### ############################################################################## ############################################################################## * checking for file ‘gmapR/DESCRIPTION’ ... OK * preparing ‘gmapR’: * checking DESCRIPTION meta-information ... OK * cleaning src * installing the package to build vignettes * creating vignettes ... OK * cleaning src * checking for LF line-endings in source and make files and shell scripts * checking for empty or unneeded directories * building ‘gmapR_1.32.0.tar.gz’