| Back to Multiple platform build/check report for BioC 3.12 | 
 | 
This page was generated on 2021-05-06 12:35:09 -0400 (Thu, 06 May 2021).
| To the developers/maintainers of the globaltest package: Please make sure to use the following settings in order to reproduce any error or warning you see on this page. | 
| Package 752/1974 | Hostname | OS / Arch | INSTALL | BUILD | CHECK | BUILD BIN | ||||||||
| globaltest 5.44.0  (landing page) Jelle Goeman 
 | malbec1 | Linux (Ubuntu 18.04.5 LTS) / x86_64 | OK | OK | OK |  | ||||||||
| tokay1 | Windows Server 2012 R2 Standard / x64 | OK | OK | OK | OK |  | ||||||||
| merida1 | macOS 10.14.6 Mojave / x86_64 | OK | OK | OK | OK |  | ||||||||
| Package: globaltest | 
| Version: 5.44.0 | 
| Command: rm -rf globaltest.buildbin-libdir && mkdir globaltest.buildbin-libdir && /Users/biocbuild/BBS/utils/build-universal.sh globaltest_5.44.0.tar.gz /Library/Frameworks/R.framework/Versions/Current/Resources/bin/R globaltest.buildbin-libdir | 
| StartedAt: 2021-05-06 08:47:56 -0400 (Thu, 06 May 2021) | 
| EndedAt: 2021-05-06 08:48:59 -0400 (Thu, 06 May 2021) | 
| EllapsedTime: 62.9 seconds | 
| RetCode: 0 | 
| Status: OK | 
| PackageFile: globaltest_5.44.0.tgz | 
| PackageFileSize: 1.086 MiB | 
############################################################################## ############################################################################## ### ### Running command: ### ### rm -rf globaltest.buildbin-libdir && mkdir globaltest.buildbin-libdir && /Users/biocbuild/BBS/utils/build-universal.sh globaltest_5.44.0.tar.gz /Library/Frameworks/R.framework/Versions/Current/Resources/bin/R globaltest.buildbin-libdir ### ############################################################################## ############################################################################## >>>>>>> >>>>>>> INSTALLATION WITH 'R CMD INSTALL --preclean --no-multiarch --library=globaltest.buildbin-libdir globaltest_5.44.0.tar.gz' >>>>>>> * installing *source* package ‘globaltest’ ... ** using staged installation ** R ** inst ** byte-compile and prepare package for lazy loading ** help *** installing help indices ** building package indices ** installing vignettes ** testing if installed package can be loaded from temporary location ** testing if installed package can be loaded from final location ** testing if installed package keeps a record of temporary installation path * DONE (globaltest)