| Back to Multiple platform build/check report for BioC 3.12 |
|
This page was generated on 2021-05-06 12:31:31 -0400 (Thu, 06 May 2021).
|
To the developers/maintainers of the globalSeq package: Please make sure to use the following settings in order to reproduce any error or warning you see on this page. |
| Package 751/1974 | Hostname | OS / Arch | INSTALL | BUILD | CHECK | BUILD BIN | ||||||||
| globalSeq 1.18.0 (landing page) Armin Rauschenberger
| malbec1 | Linux (Ubuntu 18.04.5 LTS) / x86_64 | OK | OK | OK | |||||||||
| tokay1 | Windows Server 2012 R2 Standard / x64 | OK | OK | OK | OK | |||||||||
| merida1 | macOS 10.14.6 Mojave / x86_64 | OK | OK | OK | OK | |||||||||
| Package: globalSeq |
| Version: 1.18.0 |
| Command: rm -rf globalSeq.buildbin-libdir && mkdir globalSeq.buildbin-libdir && C:\Users\biocbuild\bbs-3.12-bioc\R\bin\R.exe CMD INSTALL --merge-multiarch --build --library=globalSeq.buildbin-libdir globalSeq_1.18.0.tar.gz |
| StartedAt: 2021-05-06 09:12:32 -0400 (Thu, 06 May 2021) |
| EndedAt: 2021-05-06 09:12:40 -0400 (Thu, 06 May 2021) |
| EllapsedTime: 7.7 seconds |
| RetCode: 0 |
| Status: OK |
| PackageFile: globalSeq_1.18.0.zip |
| PackageFileSize: 731.3 KiB |
##############################################################################
##############################################################################
###
### Running command:
###
### rm -rf globalSeq.buildbin-libdir && mkdir globalSeq.buildbin-libdir && C:\Users\biocbuild\bbs-3.12-bioc\R\bin\R.exe CMD INSTALL --merge-multiarch --build --library=globalSeq.buildbin-libdir globalSeq_1.18.0.tar.gz
###
##############################################################################
##############################################################################
install for i386
* installing *source* package 'globalSeq' ...
** using staged installation
** R
** data
*** moving datasets to lazyload DB
** inst
** byte-compile and prepare package for lazy loading
** help
*** installing help indices
converting help for package 'globalSeq'
finding HTML links ... done
cursus html
globalSeq-package html
intern.chromo html
intern.crude html
intern.estim html
intern.matrix html
intern.permu html
intern.plot html
intern.sam html
intern.score html
intern.select html
internal html
omnibus html
proprius html
toydata html
** building package indices
** installing vignettes
** testing if installed package can be loaded from temporary location
** testing if installed package can be loaded from final location
** testing if installed package keeps a record of temporary installation path
install for x64
* installing *source* package 'globalSeq' ...
** testing if installed package can be loaded
* MD5 sums
packaged installation of 'globalSeq' as globalSeq_1.18.0.zip
* DONE (globalSeq)