| Back to Multiple platform build/check report for BioC 3.12 |
|
This page was generated on 2021-05-06 12:31:30 -0400 (Thu, 06 May 2021).
|
To the developers/maintainers of the ggtreeExtra package: Please make sure to use the following settings in order to reproduce any error or warning you see on this page. |
| Package 741/1974 | Hostname | OS / Arch | INSTALL | BUILD | CHECK | BUILD BIN | ||||||||
| ggtreeExtra 1.0.4 (landing page) Shuangbin Xu
| malbec1 | Linux (Ubuntu 18.04.5 LTS) / x86_64 | OK | OK | OK | |||||||||
| tokay1 | Windows Server 2012 R2 Standard / x64 | OK | OK | OK | OK | |||||||||
| merida1 | macOS 10.14.6 Mojave / x86_64 | OK | OK | OK | OK | |||||||||
| Package: ggtreeExtra |
| Version: 1.0.4 |
| Command: rm -rf ggtreeExtra.buildbin-libdir && mkdir ggtreeExtra.buildbin-libdir && C:\Users\biocbuild\bbs-3.12-bioc\R\bin\R.exe CMD INSTALL --merge-multiarch --build --library=ggtreeExtra.buildbin-libdir ggtreeExtra_1.0.4.tar.gz |
| StartedAt: 2021-05-06 09:11:59 -0400 (Thu, 06 May 2021) |
| EndedAt: 2021-05-06 09:12:25 -0400 (Thu, 06 May 2021) |
| EllapsedTime: 25.5 seconds |
| RetCode: 0 |
| Status: OK |
| PackageFile: ggtreeExtra_1.0.4.zip |
| PackageFileSize: 337.3 KiB |
##############################################################################
##############################################################################
###
### Running command:
###
### rm -rf ggtreeExtra.buildbin-libdir && mkdir ggtreeExtra.buildbin-libdir && C:\Users\biocbuild\bbs-3.12-bioc\R\bin\R.exe CMD INSTALL --merge-multiarch --build --library=ggtreeExtra.buildbin-libdir ggtreeExtra_1.0.4.tar.gz
###
##############################################################################
##############################################################################
install for i386
* installing *source* package 'ggtreeExtra' ...
** using staged installation
** R
** inst
** byte-compile and prepare package for lazy loading
** help
*** installing help indices
converting help for package 'ggtreeExtra'
finding HTML links ... done
PositionJitterdodgex html
PositionJitterx html
geom_fruit html
geom_fruit_list html
ggplot2-ggproto html
position_dodgex html
position_identityx html
position_jitterdodgex html
position_jitterx html
position_points_jitterx html
finding level-2 HTML links ... done
position_points_sinax html
position_raincloudx html
position_stackx html
reexports html
** building package indices
** installing vignettes
** testing if installed package can be loaded from temporary location
** testing if installed package can be loaded from final location
** testing if installed package keeps a record of temporary installation path
install for x64
* installing *source* package 'ggtreeExtra' ...
** testing if installed package can be loaded
* MD5 sums
packaged installation of 'ggtreeExtra' as ggtreeExtra_1.0.4.zip
* DONE (ggtreeExtra)