| Back to Multiple platform build/check report for BioC 3.12 |
|
This page was generated on 2021-05-06 12:31:29 -0400 (Thu, 06 May 2021).
|
To the developers/maintainers of the getDEE2 package: Please make sure to use the following settings in order to reproduce any error or warning you see on this page. |
| Package 733/1974 | Hostname | OS / Arch | INSTALL | BUILD | CHECK | BUILD BIN | ||||||||
| getDEE2 1.0.0 (landing page) Mark Ziemann
| malbec1 | Linux (Ubuntu 18.04.5 LTS) / x86_64 | OK | OK | OK | |||||||||
| tokay1 | Windows Server 2012 R2 Standard / x64 | OK | OK | OK | OK | |||||||||
| merida1 | macOS 10.14.6 Mojave / x86_64 | OK | OK | OK | OK | |||||||||
| Package: getDEE2 |
| Version: 1.0.0 |
| Command: rm -rf getDEE2.buildbin-libdir && mkdir getDEE2.buildbin-libdir && C:\Users\biocbuild\bbs-3.12-bioc\R\bin\R.exe CMD INSTALL --merge-multiarch --build --library=getDEE2.buildbin-libdir getDEE2_1.0.0.tar.gz |
| StartedAt: 2021-05-06 09:11:30 -0400 (Thu, 06 May 2021) |
| EndedAt: 2021-05-06 09:12:03 -0400 (Thu, 06 May 2021) |
| EllapsedTime: 33.0 seconds |
| RetCode: 0 |
| Status: OK |
| PackageFile: getDEE2_1.0.0.zip |
| PackageFileSize: 90.98 KiB |
##############################################################################
##############################################################################
###
### Running command:
###
### rm -rf getDEE2.buildbin-libdir && mkdir getDEE2.buildbin-libdir && C:\Users\biocbuild\bbs-3.12-bioc\R\bin\R.exe CMD INSTALL --merge-multiarch --build --library=getDEE2.buildbin-libdir getDEE2_1.0.0.tar.gz
###
##############################################################################
##############################################################################
install for i386
* installing *source* package 'getDEE2' ...
** using staged installation
** R
** inst
** byte-compile and prepare package for lazy loading
** help
*** installing help indices
converting help for package 'getDEE2'
finding HTML links ... done
Tx2Gene html
getDEE2 html
getDEE2Metadata html
getDEE2_bundle html
list_bundles html
loadFullMeta html
loadGeneCounts html
loadGeneInfo html
loadQcMx html
loadSummaryMeta html
loadTxCounts html
loadTxInfo html
queryDEE2 html
query_bundles html
se html
srx_agg html
** building package indices
** installing vignettes
** testing if installed package can be loaded from temporary location
** testing if installed package can be loaded from final location
** testing if installed package keeps a record of temporary installation path
install for x64
* installing *source* package 'getDEE2' ...
** testing if installed package can be loaded
* MD5 sums
packaged installation of 'getDEE2' as getDEE2_1.0.0.zip
* DONE (getDEE2)