Back to Multiple platform build/check report for BioC 3.12 |
|
This page was generated on 2021-05-06 12:27:40 -0400 (Thu, 06 May 2021).
To the developers/maintainers of the gemini package: Please make sure to use the following settings in order to reproduce any error or warning you see on this page. |
Package 678/1974 | Hostname | OS / Arch | INSTALL | BUILD | CHECK | BUILD BIN | ||||||||
gemini 1.4.0 (landing page) Sidharth Jain
| malbec1 | Linux (Ubuntu 18.04.5 LTS) / x86_64 | OK | OK | ERROR | |||||||||
tokay1 | Windows Server 2012 R2 Standard / x64 | OK | OK | ERROR | OK | |||||||||
merida1 | macOS 10.14.6 Mojave / x86_64 | OK | OK | ERROR | OK | |||||||||
Package: gemini |
Version: 1.4.0 |
Command: /home/biocbuild/bbs-3.12-bioc/R/bin/R CMD check --install=check:gemini.install-out.txt --library=/home/biocbuild/bbs-3.12-bioc/R/library --no-vignettes --timings gemini_1.4.0.tar.gz |
StartedAt: 2021-05-06 01:46:38 -0400 (Thu, 06 May 2021) |
EndedAt: 2021-05-06 01:49:26 -0400 (Thu, 06 May 2021) |
EllapsedTime: 168.2 seconds |
RetCode: 1 |
Status: ERROR |
CheckDir: gemini.Rcheck |
Warnings: NA |
############################################################################## ############################################################################## ### ### Running command: ### ### /home/biocbuild/bbs-3.12-bioc/R/bin/R CMD check --install=check:gemini.install-out.txt --library=/home/biocbuild/bbs-3.12-bioc/R/library --no-vignettes --timings gemini_1.4.0.tar.gz ### ############################################################################## ############################################################################## * using log directory ‘/home/biocbuild/bbs-3.12-bioc/meat/gemini.Rcheck’ * using R version 4.0.5 (2021-03-31) * using platform: x86_64-pc-linux-gnu (64-bit) * using session charset: UTF-8 * using option ‘--no-vignettes’ * checking for file ‘gemini/DESCRIPTION’ ... OK * checking extension type ... Package * this is package ‘gemini’ version ‘1.4.0’ * package encoding: UTF-8 * checking package namespace information ... OK * checking package dependencies ... OK * checking if this is a source package ... OK * checking if there is a namespace ... OK * checking for hidden files and directories ... OK * checking for portable file names ... OK * checking for sufficient/correct file permissions ... OK * checking whether package ‘gemini’ can be installed ... OK * checking installed package size ... OK * checking package directory ... OK * checking ‘build’ directory ... OK * checking DESCRIPTION meta-information ... OK * checking top-level files ... OK * checking for left-over files ... OK * checking index information ... OK * checking package subdirectories ... OK * checking R files for non-ASCII characters ... OK * checking R files for syntax errors ... OK * checking whether the package can be loaded ... OK * checking whether the package can be loaded with stated dependencies ... OK * checking whether the package can be unloaded cleanly ... OK * checking whether the namespace can be loaded with stated dependencies ... OK * checking whether the namespace can be unloaded cleanly ... OK * checking dependencies in R code ... OK * checking S3 generic/method consistency ... OK * checking replacement functions ... OK * checking foreign function calls ... OK * checking R code for possible problems ... NOTE gemini_boxplot : <anonymous>: no visible binding for global variable ‘.’ gemini_boxplot: no visible binding for global variable ‘.’ gemini_boxplot : <anonymous>: no visible binding for global variable ‘gi’ gemini_boxplot : <anonymous>: no visible binding for global variable ‘hj’ gemini_boxplot: no visible binding for global variable ‘label’ gemini_boxplot: no visible binding for global variable ‘y’ gemini_calculate_lfc: no visible binding for global variable ‘.’ update_s_pb: no visible binding for global variable ‘.’ update_tau_pb: no visible binding for global variable ‘.’ Undefined global functions or variables: . gi hj label y * checking Rd files ... OK * checking Rd metadata ... OK * checking Rd cross-references ... OK * checking for missing documentation entries ... OK * checking for code/documentation mismatches ... OK * checking Rd \usage sections ... OK * checking Rd contents ... OK * checking for unstated dependencies in examples ... OK * checking contents of ‘data’ directory ... OK * checking data for non-ASCII characters ... OK * checking data for ASCII and uncompressed saves ... OK * checking files in ‘vignettes’ ... OK * checking examples ... OK Examples with CPU (user + system) or elapsed time > 5s user system elapsed gemini_inference 24.624 0.016 24.687 update_x_pb 11.460 0.024 11.509 update_tau_pb 11.424 0.008 11.446 gemini_initialize 8.748 0.084 8.862 * checking for unstated dependencies in ‘tests’ ... OK * checking tests ... Running ‘testthat.R’ ERROR Running the tests in ‘tests/testthat.R’ failed. Complete output: > library(testthat) > library(gemini) > > test_check("gemini") ══ Failed tests ════════════════════════════════════════════════════════════════ ── Failure (test_data.R:31:5): Input object is reproducible ──────────────────── `Input.new` not equal to `Input`. Component "sample.annot": Attributes: < Component "row.names": Mean relative difference: 0.5454545 > [ FAIL 1 | WARN 0 | SKIP 0 | PASS 6 ] Error: Test failures Execution halted * checking for unstated dependencies in vignettes ... OK * checking package vignettes in ‘inst/doc’ ... OK * checking running R code from vignettes ... SKIPPED * checking re-building of vignette outputs ... SKIPPED * checking PDF version of manual ... OK * DONE Status: 1 ERROR, 1 NOTE See ‘/home/biocbuild/bbs-3.12-bioc/meat/gemini.Rcheck/00check.log’ for details.
gemini.Rcheck/00install.out
############################################################################## ############################################################################## ### ### Running command: ### ### /home/biocbuild/bbs-3.12-bioc/R/bin/R CMD INSTALL gemini ### ############################################################################## ############################################################################## * installing to library ‘/home/biocbuild/bbs-3.12-bioc/R/library’ * installing *source* package ‘gemini’ ... ** using staged installation ** R ** data ** inst ** byte-compile and prepare package for lazy loading ** help *** installing help indices ** building package indices ** installing vignettes ** testing if installed package can be loaded from temporary location ** testing if installed package can be loaded from final location ** testing if installed package keeps a record of temporary installation path * DONE (gemini)
gemini.Rcheck/tests/testthat.Rout.fail
R version 4.0.5 (2021-03-31) -- "Shake and Throw" Copyright (C) 2021 The R Foundation for Statistical Computing Platform: x86_64-pc-linux-gnu (64-bit) R is free software and comes with ABSOLUTELY NO WARRANTY. You are welcome to redistribute it under certain conditions. Type 'license()' or 'licence()' for distribution details. R is a collaborative project with many contributors. Type 'contributors()' for more information and 'citation()' on how to cite R or R packages in publications. Type 'demo()' for some demos, 'help()' for on-line help, or 'help.start()' for an HTML browser interface to help. Type 'q()' to quit R. > library(testthat) > library(gemini) > > test_check("gemini") ══ Failed tests ════════════════════════════════════════════════════════════════ ── Failure (test_data.R:31:5): Input object is reproducible ──────────────────── `Input.new` not equal to `Input`. Component "sample.annot": Attributes: < Component "row.names": Mean relative difference: 0.5454545 > [ FAIL 1 | WARN 0 | SKIP 0 | PASS 6 ] Error: Test failures Execution halted
gemini.Rcheck/gemini-Ex.timings
name | user | system | elapsed | |
Sgene2Pguides_hash | 0 | 0 | 0 | |
Sguide2Pguides_hash | 0.004 | 0.000 | 0.000 | |
compound | 0 | 0 | 0 | |
dot-median_normalize | 0 | 0 | 0 | |
gemini_boxplot | 4.020 | 0.044 | 4.077 | |
gemini_calculate_lfc | 0.532 | 0.012 | 0.546 | |
gemini_create_input | 0.392 | 0.040 | 0.433 | |
gemini_inference | 24.624 | 0.016 | 24.687 | |
gemini_initialize | 8.748 | 0.084 | 8.862 | |
gemini_plot_mae | 0.804 | 0.012 | 0.817 | |
gemini_prepare_input | 0.364 | 0.004 | 0.370 | |
gemini_score | 0.836 | 0.008 | 0.842 | |
initialize_s | 2.016 | 0.032 | 2.053 | |
initialize_tau | 2.708 | 0.016 | 2.726 | |
initialize_x | 3.456 | 0.008 | 3.463 | |
initialize_y | 0.648 | 0.008 | 0.656 | |
pipe | 0 | 0 | 0 | |
update_mae | 1.184 | 0.008 | 1.189 | |
update_s_pb | 2.216 | 0.008 | 2.229 | |
update_tau_pb | 11.424 | 0.008 | 11.446 | |
update_x_pb | 11.460 | 0.024 | 11.509 | |
update_y_pb | 4.044 | 0.012 | 4.066 | |