| Back to Multiple platform build/check report for BioC 3.12 | 
  | 
This page was generated on 2021-05-06 12:31:27 -0400 (Thu, 06 May 2021).
| 
To the developers/maintainers of the geNetClassifier package: Please make sure to use the following settings in order to reproduce any error or warning you see on this page.  | 
| Package 702/1974 | Hostname | OS / Arch | INSTALL | BUILD | CHECK | BUILD BIN | ||||||||
| geNetClassifier 1.30.0  (landing page) Sara Aibar 
  | malbec1 | Linux (Ubuntu 18.04.5 LTS) / x86_64 | OK | OK | OK | |||||||||
| tokay1 | Windows Server 2012 R2 Standard / x64 | OK | OK | OK | OK | |||||||||
| merida1 | macOS 10.14.6 Mojave / x86_64 | OK | OK | OK | OK | |||||||||
| Package: geNetClassifier | 
| Version: 1.30.0 | 
| Command: rm -rf geNetClassifier.buildbin-libdir && mkdir geNetClassifier.buildbin-libdir && C:\Users\biocbuild\bbs-3.12-bioc\R\bin\R.exe CMD INSTALL --merge-multiarch --build --library=geNetClassifier.buildbin-libdir geNetClassifier_1.30.0.tar.gz | 
| StartedAt: 2021-05-06 09:09:41 -0400 (Thu, 06 May 2021) | 
| EndedAt: 2021-05-06 09:10:20 -0400 (Thu, 06 May 2021) | 
| EllapsedTime: 38.5 seconds | 
| RetCode: 0 | 
| Status: OK | 
| PackageFile: geNetClassifier_1.30.0.zip | 
| PackageFileSize: 3.031 MiB | 
##############################################################################
##############################################################################
###
### Running command:
###
###   rm -rf geNetClassifier.buildbin-libdir && mkdir geNetClassifier.buildbin-libdir && C:\Users\biocbuild\bbs-3.12-bioc\R\bin\R.exe CMD INSTALL --merge-multiarch --build --library=geNetClassifier.buildbin-libdir geNetClassifier_1.30.0.tar.gz
###
##############################################################################
##############################################################################
install for i386
* installing *source* package 'geNetClassifier' ...
** using staged installation
** R
** data
** inst
** byte-compile and prepare package for lazy loading
** help
*** installing help indices
  converting help for package 'geNetClassifier'
    finding HTML links ... done
    GeNetClassifierReturn-class             html  
    GeneralizationError-class               html  
    GenesNetwork-class                      html  
    GenesRanking-class                      html  
    calculateGenesRanking                   html  
    externalValidation.probMatrix           html  
    externalValidation.stats                html  
    gClasses-methods                        html  
    geNetClassifier-package                 html  
    geNetClassifier                         html  
    finding level-2 HTML links ... done
    geneSymbols                             html  
    genesDetails-methods                    html  
    getEdges-methods                        html  
    getNodes-methods                        html  
    getNumEdges-methods                     html  
    getNumNodes-methods                     html  
    getRanking-methods                      html  
    getSubNetwork-methods                   html  
    getTopRanking-methods                   html  
    leukemiasClassifier                     html  
    network2txt                             html  
    numGenes-methods                        html  
    numSignificantGenes-methods             html  
    overview-methods                        html  
    plot.GeNetClassifierReturn              html  
    plot.GenesRanking                       html  
    plotAssignments                         html  
    plotDiscriminantPower                   html  
    plotExpressionProfiles                  html  
    plotNetwork                             html  
    queryGeNetClassifier                    html  
    querySummary                            html  
    setProperties-methods                   html  
** building package indices
** installing vignettes
** testing if installed package can be loaded from temporary location
** testing if installed package can be loaded from final location
** testing if installed package keeps a record of temporary installation path
install for x64
* installing *source* package 'geNetClassifier' ...
** testing if installed package can be loaded
* MD5 sums
packaged installation of 'geNetClassifier' as geNetClassifier_1.30.0.zip
* DONE (geNetClassifier)