| Back to Multiple platform build/check report for BioC 3.12 |
|
This page was generated on 2021-05-06 12:31:20 -0400 (Thu, 06 May 2021).
|
To the developers/maintainers of the flowUtils package: Please make sure to use the following settings in order to reproduce any error or warning you see on this page. |
| Package 638/1974 | Hostname | OS / Arch | INSTALL | BUILD | CHECK | BUILD BIN | ||||||||
| flowUtils 1.54.0 (landing page) Josef Spidlen
| malbec1 | Linux (Ubuntu 18.04.5 LTS) / x86_64 | OK | OK | WARNINGS | |||||||||
| tokay1 | Windows Server 2012 R2 Standard / x64 | OK | OK | WARNINGS | OK | |||||||||
| merida1 | macOS 10.14.6 Mojave / x86_64 | OK | OK | WARNINGS | OK | |||||||||
| Package: flowUtils |
| Version: 1.54.0 |
| Command: C:\cygwin\bin\curl.exe -O http://172.29.0.3/BBS/3.12/bioc/src/contrib/flowUtils_1.54.0.tar.gz && rm -rf flowUtils.buildbin-libdir && mkdir flowUtils.buildbin-libdir && C:\Users\biocbuild\bbs-3.12-bioc\R\bin\R.exe CMD INSTALL --merge-multiarch --build --library=flowUtils.buildbin-libdir flowUtils_1.54.0.tar.gz && C:\Users\biocbuild\bbs-3.12-bioc\R\bin\R.exe CMD INSTALL flowUtils_1.54.0.zip && rm flowUtils_1.54.0.tar.gz flowUtils_1.54.0.zip |
| StartedAt: 2021-05-05 17:10:46 -0400 (Wed, 05 May 2021) |
| EndedAt: 2021-05-05 17:11:40 -0400 (Wed, 05 May 2021) |
| EllapsedTime: 53.9 seconds |
| RetCode: 0 |
| Status: OK |
##############################################################################
##############################################################################
###
### Running command:
###
### C:\cygwin\bin\curl.exe -O http://172.29.0.3/BBS/3.12/bioc/src/contrib/flowUtils_1.54.0.tar.gz && rm -rf flowUtils.buildbin-libdir && mkdir flowUtils.buildbin-libdir && C:\Users\biocbuild\bbs-3.12-bioc\R\bin\R.exe CMD INSTALL --merge-multiarch --build --library=flowUtils.buildbin-libdir flowUtils_1.54.0.tar.gz && C:\Users\biocbuild\bbs-3.12-bioc\R\bin\R.exe CMD INSTALL flowUtils_1.54.0.zip && rm flowUtils_1.54.0.tar.gz flowUtils_1.54.0.zip
###
##############################################################################
##############################################################################
% Total % Received % Xferd Average Speed Time Time Time Current
Dload Upload Total Spent Left Speed
0 0 0 0 0 0 0 0 --:--:-- --:--:-- --:--:-- 0
100 86483 100 86483 0 0 4385k 0 --:--:-- --:--:-- --:--:-- 4692k
install for i386
* installing *source* package 'flowUtils' ...
** using staged installation
** R
** inst
** byte-compile and prepare package for lazy loading
No methods found in package 'flowCore' for requests: 'action', 'assign', 'Data', 'gate', 'tree' when loading 'flowUtils'
** help
*** installing help indices
converting help for package 'flowUtils'
finding HTML links ... done
flowUtil-package html
read.gatingML html
testGatingMLCompliance html
write.gatingML html
** building package indices
** installing vignettes
** testing if installed package can be loaded from temporary location
No methods found in package 'flowCore' for requests: 'action', 'assign', 'Data', 'gate', 'tree' when loading 'flowUtils'
** testing if installed package can be loaded from final location
No methods found in package 'flowCore' for requests: 'action', 'assign', 'Data', 'gate', 'tree' when loading 'flowUtils'
** testing if installed package keeps a record of temporary installation path
install for x64
* installing *source* package 'flowUtils' ...
** testing if installed package can be loaded
No methods found in package 'flowCore' for requests: 'action', 'assign', 'Data', 'gate', 'tree' when loading 'flowUtils'
* MD5 sums
packaged installation of 'flowUtils' as flowUtils_1.54.0.zip
* DONE (flowUtils)
* installing to library 'C:/Users/biocbuild/bbs-3.12-bioc/R/library'
package 'flowUtils' successfully unpacked and MD5 sums checked