| Back to Multiple platform build/check report for BioC 3.12 |
|
This page was generated on 2021-05-06 12:27:35 -0400 (Thu, 06 May 2021).
|
To the developers/maintainers of the flowPlots package: Please make sure to use the following settings in order to reproduce any error or warning you see on this page. |
| Package 629/1974 | Hostname | OS / Arch | INSTALL | BUILD | CHECK | BUILD BIN | ||||||||
| flowPlots 1.38.0 (landing page) N. Hawkins
| malbec1 | Linux (Ubuntu 18.04.5 LTS) / x86_64 | OK | OK | OK | |||||||||
| tokay1 | Windows Server 2012 R2 Standard / x64 | OK | OK | OK | OK | |||||||||
| merida1 | macOS 10.14.6 Mojave / x86_64 | OK | OK | OK | OK | |||||||||
| Package: flowPlots |
| Version: 1.38.0 |
| Command: /home/biocbuild/bbs-3.12-bioc/R/bin/R CMD build --keep-empty-dirs --no-resave-data flowPlots |
| StartedAt: 2021-05-05 19:05:36 -0400 (Wed, 05 May 2021) |
| EndedAt: 2021-05-05 19:05:47 -0400 (Wed, 05 May 2021) |
| EllapsedTime: 11.4 seconds |
| RetCode: 0 |
| Status: OK |
| PackageFile: flowPlots_1.38.0.tar.gz |
| PackageFileSize: 514 KiB |
############################################################################## ############################################################################## ### ### Running command: ### ### /home/biocbuild/bbs-3.12-bioc/R/bin/R CMD build --keep-empty-dirs --no-resave-data flowPlots ### ############################################################################## ############################################################################## * checking for file ‘flowPlots/DESCRIPTION’ ... OK * preparing ‘flowPlots’: * checking DESCRIPTION meta-information ... OK * checking whether ‘INDEX’ is up-to-date ... NO * use ‘--force’ to remove the existing ‘INDEX’ * installing the package to build vignettes * creating vignettes ... OK * checking for LF line-endings in source and make files and shell scripts * checking for empty or unneeded directories * building ‘flowPlots_1.38.0.tar.gz’