| Back to Multiple platform build/check report for BioC 3.12 | 
 | 
This page was generated on 2021-05-06 12:31:19 -0400 (Thu, 06 May 2021).
| To the developers/maintainers of the flowMerge package: Please make sure to use the following settings in order to reproduce any error or warning you see on this page. | 
| Package 626/1974 | Hostname | OS / Arch | INSTALL | BUILD | CHECK | BUILD BIN | ||||||||
| flowMerge 2.38.0  (landing page) Greg Finak 
 | malbec1 | Linux (Ubuntu 18.04.5 LTS) / x86_64 | OK | OK | OK |  | ||||||||
| tokay1 | Windows Server 2012 R2 Standard / x64 | OK | OK | OK | OK |  | ||||||||
| merida1 | macOS 10.14.6 Mojave / x86_64 | OK | OK | OK | OK |  | ||||||||
| Package: flowMerge | 
| Version: 2.38.0 | 
| Command: rm -rf flowMerge.buildbin-libdir && mkdir flowMerge.buildbin-libdir && C:\Users\biocbuild\bbs-3.12-bioc\R\bin\R.exe CMD INSTALL --merge-multiarch --build --library=flowMerge.buildbin-libdir flowMerge_2.38.0.tar.gz | 
| StartedAt: 2021-05-06 09:05:25 -0400 (Thu, 06 May 2021) | 
| EndedAt: 2021-05-06 09:06:11 -0400 (Thu, 06 May 2021) | 
| EllapsedTime: 45.8 seconds | 
| RetCode: 0 | 
| Status: OK | 
| PackageFile: flowMerge_2.38.0.zip | 
| PackageFileSize: 918.7 KiB | 
##############################################################################
##############################################################################
###
### Running command:
###
###   rm -rf flowMerge.buildbin-libdir && mkdir flowMerge.buildbin-libdir && C:\Users\biocbuild\bbs-3.12-bioc\R\bin\R.exe CMD INSTALL --merge-multiarch --build --library=flowMerge.buildbin-libdir flowMerge_2.38.0.tar.gz
###
##############################################################################
##############################################################################
install for i386
* installing *source* package 'flowMerge' ...
** using staged installation
** R
** data
** inst
** byte-compile and prepare package for lazy loading
** help
*** installing help indices
  converting help for package 'flowMerge'
    finding HTML links ... done
    NENT                                    html  
    checkForRemoteErrors                    html  
    fitPiecewiseLinreg-methods              html  
    fitPiecewiseLinreg                      html  
    flagOutliers-methods                    html  
    flagOutliers                            html  
    flowClust.res                           html  
    flowMerge-class                         html  
    finding level-2 HTML links ... done
    flowMerge-internal                      html  
    flowMerge-package                       html  
    flowObj-class                           html  
    flowObj                                 html  
    initPFlowMerge                          html  
    map                                     html  
    merge-methods                           html  
    merge                                   html  
    mergeClusters                           html  
    mergeClusters2                          html  
    pFlowClust                              html  
    pFlowMerge                              html  
    plot-methods                            html  
    ptree                                   html  
    show-methods                            html  
    split-methods                           html  
    summary-methods                         html  
    updateU                                 html  
** building package indices
** installing vignettes
** testing if installed package can be loaded from temporary location
** testing if installed package can be loaded from final location
** testing if installed package keeps a record of temporary installation path
install for x64
* installing *source* package 'flowMerge' ...
** testing if installed package can be loaded
* MD5 sums
packaged installation of 'flowMerge' as flowMerge_2.38.0.zip
* DONE (flowMerge)