| Back to Multiple platform build/check report for BioC 3.12 |
|
This page was generated on 2021-05-06 12:31:19 -0400 (Thu, 06 May 2021).
|
To the developers/maintainers of the flowMap package: Please make sure to use the following settings in order to reproduce any error or warning you see on this page. |
| Package 623/1974 | Hostname | OS / Arch | INSTALL | BUILD | CHECK | BUILD BIN | ||||||||
| flowMap 1.28.0 (landing page) Chiaowen Joyce Hsiao
| malbec1 | Linux (Ubuntu 18.04.5 LTS) / x86_64 | OK | OK | WARNINGS | |||||||||
| tokay1 | Windows Server 2012 R2 Standard / x64 | OK | OK | WARNINGS | OK | |||||||||
| merida1 | macOS 10.14.6 Mojave / x86_64 | OK | OK | WARNINGS | OK | |||||||||
| Package: flowMap |
| Version: 1.28.0 |
| Command: rm -rf flowMap.buildbin-libdir && mkdir flowMap.buildbin-libdir && C:\Users\biocbuild\bbs-3.12-bioc\R\bin\R.exe CMD INSTALL --merge-multiarch --build --library=flowMap.buildbin-libdir flowMap_1.28.0.tar.gz |
| StartedAt: 2021-05-06 09:05:14 -0400 (Thu, 06 May 2021) |
| EndedAt: 2021-05-06 09:06:03 -0400 (Thu, 06 May 2021) |
| EllapsedTime: 49.6 seconds |
| RetCode: 0 |
| Status: OK |
| PackageFile: flowMap_1.28.0.zip |
| PackageFileSize: 1.064 MiB |
##############################################################################
##############################################################################
###
### Running command:
###
### rm -rf flowMap.buildbin-libdir && mkdir flowMap.buildbin-libdir && C:\Users\biocbuild\bbs-3.12-bioc\R\bin\R.exe CMD INSTALL --merge-multiarch --build --library=flowMap.buildbin-libdir flowMap_1.28.0.tar.gz
###
##############################################################################
##############################################################################
install for i386
* installing *source* package 'flowMap' ...
** using staged installation
** R
** inst
** byte-compile and prepare package for lazy loading
** help
*** installing help indices
converting help for package 'flowMap'
finding HTML links ... done
flowMap-package html
frstats-class html
getFR html
getFRest html
getFRmat html
makeDistmat html
statCrossLists html
** building package indices
** installing vignettes
** testing if installed package can be loaded from temporary location
** testing if installed package can be loaded from final location
** testing if installed package keeps a record of temporary installation path
install for x64
* installing *source* package 'flowMap' ...
** testing if installed package can be loaded
* MD5 sums
packaged installation of 'flowMap' as flowMap_1.28.0.zip
* DONE (flowMap)