| Back to Multiple platform build/check report for BioC 3.12 |
|
This page was generated on 2021-05-06 12:34:59 -0400 (Thu, 06 May 2021).
|
To the developers/maintainers of the flowDensity package: Please make sure to use the following settings in order to reproduce any error or warning you see on this page. |
| Package 620/1974 | Hostname | OS / Arch | INSTALL | BUILD | CHECK | BUILD BIN | ||||||||
| flowDensity 1.24.0 (landing page) Mehrnoush Malek
| malbec1 | Linux (Ubuntu 18.04.5 LTS) / x86_64 | OK | OK | WARNINGS | |||||||||
| tokay1 | Windows Server 2012 R2 Standard / x64 | OK | OK | WARNINGS | OK | |||||||||
| merida1 | macOS 10.14.6 Mojave / x86_64 | OK | OK | WARNINGS | OK | |||||||||
| Package: flowDensity |
| Version: 1.24.0 |
| Command: /Library/Frameworks/R.framework/Versions/Current/Resources/bin/R CMD build --keep-empty-dirs --no-resave-data flowDensity |
| StartedAt: 2021-05-05 19:29:14 -0400 (Wed, 05 May 2021) |
| EndedAt: 2021-05-05 19:29:55 -0400 (Wed, 05 May 2021) |
| EllapsedTime: 41.2 seconds |
| RetCode: 0 |
| Status: OK |
| PackageFile: flowDensity_1.24.0.tar.gz |
| PackageFileSize: 5.918 MiB |
##############################################################################
##############################################################################
###
### Running command:
###
### /Library/Frameworks/R.framework/Versions/Current/Resources/bin/R CMD build --keep-empty-dirs --no-resave-data flowDensity
###
##############################################################################
##############################################################################
* checking for file ‘flowDensity/DESCRIPTION’ ... OK
* preparing ‘flowDensity’:
* checking DESCRIPTION meta-information ... OK
Warning: bad markup (extra space?) at plotDens.Rd:62:19
* installing the package to build vignettes
* creating vignettes ... OK
Warning: ‘inst/doc’ file
‘flowDensity.R’
ignored as vignettes have been rebuilt.
Run R CMD build with --no-build-vignettes to prevent rebuilding.
* checking for LF line-endings in source and make files and shell scripts
* checking for empty or unneeded directories
* building ‘flowDensity_1.24.0.tar.gz’